BEGIN:VCALENDAR
VERSION:2.0
PRODID:-//Greater Vancouver Intergroup Society AA - ECPv6.15.20//NONSGML v1.0//EN
CALSCALE:GREGORIAN
METHOD:PUBLISH
X-ORIGINAL-URL:https://vancouveraa.ca
X-WR-CALDESC:Events for Greater Vancouver Intergroup Society AA
REFRESH-INTERVAL;VALUE=DURATION:PT1H
X-Robots-Tag:noindex
X-PUBLISHED-TTL:PT1H
BEGIN:VTIMEZONE
TZID:America/Vancouver
BEGIN:DAYLIGHT
TZOFFSETFROM:-0800
TZOFFSETTO:-0700
TZNAME:PDT
DTSTART:20240310T100000
END:DAYLIGHT
BEGIN:STANDARD
TZOFFSETFROM:-0700
TZOFFSETTO:-0800
TZNAME:PST
DTSTART:20241103T090000
END:STANDARD
BEGIN:DAYLIGHT
TZOFFSETFROM:-0800
TZOFFSETTO:-0700
TZNAME:PDT
DTSTART:20250309T100000
END:DAYLIGHT
BEGIN:STANDARD
TZOFFSETFROM:-0700
TZOFFSETTO:-0800
TZNAME:PST
DTSTART:20251102T090000
END:STANDARD
BEGIN:DAYLIGHT
TZOFFSETFROM:-0800
TZOFFSETTO:-0700
TZNAME:PDT
DTSTART:20260308T100000
END:DAYLIGHT
BEGIN:STANDARD
TZOFFSETFROM:-0700
TZOFFSETTO:-0800
TZNAME:PST
DTSTART:20261101T090000
END:STANDARD
END:VTIMEZONE
BEGIN:VEVENT
DTSTART;TZID=America/Vancouver:20250322T000000
DTEND;TZID=America/Vancouver:20250322T000000
DTSTAMP:20260424T070354
CREATED:20230515T211608Z
LAST-MODIFIED:20231206T004925Z
UID:10000273-1742601600-1742601600@vancouveraa.ca
SUMMARY:Cruising The Sea of Happy Destiny
DESCRIPTION:
URL:https://vancouveraa.ca/event/cruising-the-sea-of-happy-destiny/
LOCATION:PO BOX 754\, PO Box 754\, Lady Smith\, B.C.\, V9G 1A5\, Canada
CATEGORIES:Event Misc.
GEO:48.9939001;-123.8194387
X-APPLE-STRUCTURED-LOCATION;VALUE=URI;X-ADDRESS=PO BOX 754 PO Box 754 Lady Smith B.C. V9G 1A5 Canada;X-APPLE-RADIUS=500;X-TITLE=PO Box 754:geo:-123.8194387,48.9939001
END:VEVENT
END:VCALENDAR