BEGIN:VCALENDAR
VERSION:2.0
PRODID:-//Greater Vancouver Intergroup Society AA - ECPv6.15.20//NONSGML v1.0//EN
CALSCALE:GREGORIAN
METHOD:PUBLISH
X-ORIGINAL-URL:https://vancouveraa.ca
X-WR-CALDESC:Events for Greater Vancouver Intergroup Society AA
REFRESH-INTERVAL;VALUE=DURATION:PT1H
X-Robots-Tag:noindex
X-PUBLISHED-TTL:PT1H
BEGIN:VTIMEZONE
TZID:America/Vancouver
BEGIN:DAYLIGHT
TZOFFSETFROM:-0800
TZOFFSETTO:-0700
TZNAME:PDT
DTSTART:20250309T100000
END:DAYLIGHT
BEGIN:STANDARD
TZOFFSETFROM:-0700
TZOFFSETTO:-0800
TZNAME:PST
DTSTART:20251102T090000
END:STANDARD
BEGIN:DAYLIGHT
TZOFFSETFROM:-0800
TZOFFSETTO:-0700
TZNAME:PDT
DTSTART:20260308T100000
END:DAYLIGHT
BEGIN:STANDARD
TZOFFSETFROM:-0700
TZOFFSETTO:-0800
TZNAME:PST
DTSTART:20261101T090000
END:STANDARD
BEGIN:DAYLIGHT
TZOFFSETFROM:-0800
TZOFFSETTO:-0700
TZNAME:PDT
DTSTART:20270314T100000
END:DAYLIGHT
BEGIN:STANDARD
TZOFFSETFROM:-0700
TZOFFSETTO:-0800
TZNAME:PST
DTSTART:20271107T090000
END:STANDARD
END:VTIMEZONE
BEGIN:VEVENT
DTSTART;VALUE=DATE:20260925
DTEND;VALUE=DATE:20260928
DTSTAMP:20260423T221731
CREATED:20260327T225922Z
LAST-MODIFIED:20260327T225922Z
UID:10002223-1790294400-1790553599@vancouveraa.ca
SUMMARY:2026 Bridging the Gap Temporary Contacts
DESCRIPTION:Click here for the poster.
URL:https://vancouveraa.ca/event/2026-bridging-the-gap-temporary-contacts/
LOCATION:Hilton Garden Inn Olathe\, 12080 S Stran Line Rd\, Olathe\, KS\, 66062\, United States
ATTACH;FMTTYPE=image/png:https://vancouveraa.ca/wp-content/uploads/2026/03/September-2026-BTG-Workshop-FI-e1774652347635.png
GEO:38.9108659;-94.7697084
X-APPLE-STRUCTURED-LOCATION;VALUE=URI;X-ADDRESS=Hilton Garden Inn Olathe 12080 S Stran Line Rd Olathe KS 66062 United States;X-APPLE-RADIUS=500;X-TITLE=12080 S Stran Line Rd:geo:-94.7697084,38.9108659
END:VEVENT
END:VCALENDAR