BEGIN:VCALENDAR
VERSION:2.0
PRODID:-//Greater Vancouver Intergroup Society AA - ECPv6.15.20//NONSGML v1.0//EN
CALSCALE:GREGORIAN
METHOD:PUBLISH
X-ORIGINAL-URL:https://vancouveraa.ca
X-WR-CALDESC:Events for Greater Vancouver Intergroup Society AA
REFRESH-INTERVAL;VALUE=DURATION:PT1H
X-Robots-Tag:noindex
X-PUBLISHED-TTL:PT1H
BEGIN:VTIMEZONE
TZID:America/Vancouver
BEGIN:DAYLIGHT
TZOFFSETFROM:-0800
TZOFFSETTO:-0700
TZNAME:PDT
DTSTART:20250309T100000
END:DAYLIGHT
BEGIN:STANDARD
TZOFFSETFROM:-0700
TZOFFSETTO:-0800
TZNAME:PST
DTSTART:20251102T090000
END:STANDARD
BEGIN:DAYLIGHT
TZOFFSETFROM:-0800
TZOFFSETTO:-0700
TZNAME:PDT
DTSTART:20260308T100000
END:DAYLIGHT
BEGIN:STANDARD
TZOFFSETFROM:-0700
TZOFFSETTO:-0800
TZNAME:PST
DTSTART:20261101T090000
END:STANDARD
BEGIN:DAYLIGHT
TZOFFSETFROM:-0800
TZOFFSETTO:-0700
TZNAME:PDT
DTSTART:20270314T100000
END:DAYLIGHT
BEGIN:STANDARD
TZOFFSETFROM:-0700
TZOFFSETTO:-0800
TZNAME:PST
DTSTART:20271107T090000
END:STANDARD
END:VTIMEZONE
BEGIN:VEVENT
DTSTART;TZID=America/Vancouver:20260505T173000
DTEND;TZID=America/Vancouver:20260505T200000
DTSTAMP:20260423T085412
CREATED:20260327T224542Z
LAST-MODIFIED:20260327T224542Z
UID:10002221-1778002200-1778011200@vancouveraa.ca
SUMMARY:BTAAB: Hello Spring
DESCRIPTION:Click here for poster.
URL:https://vancouveraa.ca/event/btaab-hello-spring/
LOCATION:St. Philips Anglican Church\, 3737 W 27th Avenue\, Vancouver\, BC\, Canada
ATTACH;FMTTYPE=image/png:https://vancouveraa.ca/wp-content/uploads/2026/03/20260505-BTAAB-Social-FI-e1774651523365.png
GEO:49.2483663;-123.1871661
X-APPLE-STRUCTURED-LOCATION;VALUE=URI;X-ADDRESS=St. Philips Anglican Church 3737 W 27th Avenue Vancouver BC Canada;X-APPLE-RADIUS=500;X-TITLE=3737 W 27th Avenue:geo:-123.1871661,49.2483663
END:VEVENT
END:VCALENDAR