BEGIN:VCALENDAR
VERSION:2.0
PRODID:-//Greater Vancouver Intergroup Society AA - ECPv6.15.20//NONSGML v1.0//EN
CALSCALE:GREGORIAN
METHOD:PUBLISH
X-WR-CALNAME:Greater Vancouver Intergroup Society AA
X-ORIGINAL-URL:https://vancouveraa.ca
X-WR-CALDESC:Events for Greater Vancouver Intergroup Society AA
REFRESH-INTERVAL;VALUE=DURATION:PT1H
X-Robots-Tag:noindex
X-PUBLISHED-TTL:PT1H
BEGIN:VTIMEZONE
TZID:America/Vancouver
BEGIN:DAYLIGHT
TZOFFSETFROM:-0800
TZOFFSETTO:-0700
TZNAME:PDT
DTSTART:20250309T100000
END:DAYLIGHT
BEGIN:STANDARD
TZOFFSETFROM:-0700
TZOFFSETTO:-0800
TZNAME:PST
DTSTART:20251102T090000
END:STANDARD
BEGIN:DAYLIGHT
TZOFFSETFROM:-0800
TZOFFSETTO:-0700
TZNAME:PDT
DTSTART:20260308T100000
END:DAYLIGHT
BEGIN:STANDARD
TZOFFSETFROM:-0700
TZOFFSETTO:-0800
TZNAME:PST
DTSTART:20261101T090000
END:STANDARD
BEGIN:DAYLIGHT
TZOFFSETFROM:-0800
TZOFFSETTO:-0700
TZNAME:PDT
DTSTART:20270314T100000
END:DAYLIGHT
BEGIN:STANDARD
TZOFFSETFROM:-0700
TZOFFSETTO:-0800
TZNAME:PST
DTSTART:20271107T090000
END:STANDARD
END:VTIMEZONE
BEGIN:VEVENT
DTSTART;TZID=America/Vancouver:20260420T200000
DTEND;TZID=America/Vancouver:20260420T213000
DTSTAMP:20260423T120440
CREATED:20260205T172003Z
LAST-MODIFIED:20260205T172003Z
UID:10002114-1776715200-1776720600@vancouveraa.ca
SUMMARY:BAY GROUP: MONDAY 8PM SPEAKER MEETING
DESCRIPTION:Click here for printable poster
URL:https://vancouveraa.ca/event/bay-group-monday-8pm-speaker-meeting/2026-04-20/
LOCATION:Vancouver Recovery Club\, 2775 Sophia Street\, Vancouver\, V5T 3L1
CATEGORIES:Event,Event Misc.
ATTACH;FMTTYPE=image/png:https://vancouveraa.ca/wp-content/uploads/2026/02/202602-BAY-GRP-SPEAKERS-FI.png
GEO:49.2605641;-123.0984775
X-APPLE-STRUCTURED-LOCATION;VALUE=URI;X-ADDRESS=Vancouver Recovery Club 2775 Sophia Street Vancouver V5T 3L1;X-APPLE-RADIUS=500;X-TITLE=2775 Sophia Street:geo:-123.0984775,49.2605641
END:VEVENT
BEGIN:VEVENT
DTSTART;TZID=America/Vancouver:20260421T183000
DTEND;TZID=America/Vancouver:20260421T210000
DTSTAMP:20260423T120441
CREATED:20260327T225413Z
LAST-MODIFIED:20260327T225413Z
UID:10002222-1776796200-1776805200@vancouveraa.ca
SUMMARY:COME TO BELIEVE: Speaker Meeting & Potluck Dinner
DESCRIPTION:Click here for poster.
URL:https://vancouveraa.ca/event/come-to-believe-speaker-meeting-potluck-dinner/
LOCATION:Richmond Presbyterian Church\, 71111 No 2 Rd\, Richmond\, BC\, Canada
ATTACH;FMTTYPE=image/png:https://vancouveraa.ca/wp-content/uploads/2026/03/20260421-COME-TO-BELIEVE-Potluck-FI-e1774651846883.png
GEO:49.148356;-123.158967
X-APPLE-STRUCTURED-LOCATION;VALUE=URI;X-ADDRESS=Richmond Presbyterian Church 71111 No 2 Rd Richmond BC Canada;X-APPLE-RADIUS=500;X-TITLE=71111 No 2 Rd:geo:-123.158967,49.148356
END:VEVENT
BEGIN:VEVENT
DTSTART;TZID=America/Vancouver:20260421T193000
DTEND;TZID=America/Vancouver:20260421T213000
DTSTAMP:20260423T120441
CREATED:20260104T020331Z
LAST-MODIFIED:20260104T020331Z
UID:10002087-1776799800-1776807000@vancouveraa.ca
SUMMARY:Intergroup Committee Monthly Mtg
DESCRIPTION:
URL:https://vancouveraa.ca/event/intergroup-committee-monthly-mtg/2026-04-21/
LOCATION:GVIS Central Office\, 3457 Kingsway\, Vancouver\, BC\, V5R 5L5\, Canada
CATEGORIES:IG
ATTACH;FMTTYPE=image/png:https://vancouveraa.ca/wp-content/uploads/2026/01/2026-Intergroup-Monthly-Meeting.png
ORGANIZER;CN="Greater Vancouver Intergroup":MAILTO:staff@vancouveraa.ca
GEO:49.23222;-123.0307049
X-APPLE-STRUCTURED-LOCATION;VALUE=URI;X-ADDRESS=GVIS Central Office 3457 Kingsway Vancouver BC V5R 5L5 Canada;X-APPLE-RADIUS=500;X-TITLE=3457 Kingsway:geo:-123.0307049,49.23222
END:VEVENT
END:VCALENDAR