BEGIN:VCALENDAR
VERSION:2.0
PRODID:-//Greater Vancouver Intergroup Society AA - ECPv6.15.20//NONSGML v1.0//EN
CALSCALE:GREGORIAN
METHOD:PUBLISH
X-WR-CALNAME:Greater Vancouver Intergroup Society AA
X-ORIGINAL-URL:https://vancouveraa.ca
X-WR-CALDESC:Events for Greater Vancouver Intergroup Society AA
REFRESH-INTERVAL;VALUE=DURATION:PT1H
X-Robots-Tag:noindex
X-PUBLISHED-TTL:PT1H
BEGIN:VTIMEZONE
TZID:America/Vancouver
BEGIN:DAYLIGHT
TZOFFSETFROM:-0800
TZOFFSETTO:-0700
TZNAME:PDT
DTSTART:20250309T100000
END:DAYLIGHT
BEGIN:STANDARD
TZOFFSETFROM:-0700
TZOFFSETTO:-0800
TZNAME:PST
DTSTART:20251102T090000
END:STANDARD
BEGIN:DAYLIGHT
TZOFFSETFROM:-0800
TZOFFSETTO:-0700
TZNAME:PDT
DTSTART:20260308T100000
END:DAYLIGHT
BEGIN:STANDARD
TZOFFSETFROM:-0700
TZOFFSETTO:-0800
TZNAME:PST
DTSTART:20261101T090000
END:STANDARD
BEGIN:DAYLIGHT
TZOFFSETFROM:-0800
TZOFFSETTO:-0700
TZNAME:PDT
DTSTART:20270314T100000
END:DAYLIGHT
BEGIN:STANDARD
TZOFFSETFROM:-0700
TZOFFSETTO:-0800
TZNAME:PST
DTSTART:20271107T090000
END:STANDARD
END:VTIMEZONE
BEGIN:VEVENT
DTSTART;TZID=America/Vancouver:20260323T200000
DTEND;TZID=America/Vancouver:20260323T213000
DTSTAMP:20260423T152850
CREATED:20260205T172003Z
LAST-MODIFIED:20260205T172003Z
UID:10002110-1774296000-1774301400@vancouveraa.ca
SUMMARY:BAY GROUP: MONDAY 8PM SPEAKER MEETING
DESCRIPTION:Click here for printable poster
URL:https://vancouveraa.ca/event/bay-group-monday-8pm-speaker-meeting/2026-03-23/
LOCATION:Vancouver Recovery Club\, 2775 Sophia Street\, Vancouver\, V5T 3L1
CATEGORIES:Event,Event Misc.
ATTACH;FMTTYPE=image/png:https://vancouveraa.ca/wp-content/uploads/2026/02/202602-BAY-GRP-SPEAKERS-FI.png
GEO:49.2605641;-123.0984775
X-APPLE-STRUCTURED-LOCATION;VALUE=URI;X-ADDRESS=Vancouver Recovery Club 2775 Sophia Street Vancouver V5T 3L1;X-APPLE-RADIUS=500;X-TITLE=2775 Sophia Street:geo:-123.0984775,49.2605641
END:VEVENT
BEGIN:VEVENT
DTSTART;TZID=America/Vancouver:20260326T180000
DTEND;TZID=America/Vancouver:20260326T203000
DTSTAMP:20260423T152850
CREATED:20260222T000515Z
LAST-MODIFIED:20260222T000515Z
UID:10002219-1774548000-1774557000@vancouveraa.ca
SUMMARY:WEST END GROUP: 80th Anniversary!!
DESCRIPTION:
URL:https://vancouveraa.ca/event/west-end-group-80th-anniversary/
LOCATION:Holy Trinity Church\, 1440 W. 12th Ave.\, BC\, V6H 1M8\, Canada
CATEGORIES:Anniversary,Event
ATTACH;FMTTYPE=image/png:https://vancouveraa.ca/wp-content/uploads/2026/02/202603-West-End-Group-80th-e1771718682909.png
GEO:49.2605896;-123.1367882
X-APPLE-STRUCTURED-LOCATION;VALUE=URI;X-ADDRESS=Holy Trinity Church 1440 W. 12th Ave. BC V6H 1M8 Canada;X-APPLE-RADIUS=500;X-TITLE=1440 W. 12th Ave.:geo:-123.1367882,49.2605896
END:VEVENT
BEGIN:VEVENT
DTSTART;TZID=America/Vancouver:20260328T190000
DTEND;TZID=America/Vancouver:20260328T200000
DTSTAMP:20260423T152850
CREATED:20260221T235029Z
LAST-MODIFIED:20260221T235237Z
UID:10002166-1774724400-1774728000@vancouveraa.ca
SUMMARY:UNITY SPEAKER MTG - March Speakers
DESCRIPTION:Click here for the PDF printable version
URL:https://vancouveraa.ca/event/unity-speaker-mtg-march-speakers/2026-03-28/
LOCATION:
ATTACH;FMTTYPE=image/png:https://vancouveraa.ca/wp-content/uploads/2026/02/202603-UNITY-SPEAKER-MTG.png
END:VEVENT
END:VCALENDAR