BEGIN:VCALENDAR
VERSION:2.0
PRODID:-//Greater Vancouver Intergroup Society AA - ECPv6.15.20//NONSGML v1.0//EN
CALSCALE:GREGORIAN
METHOD:PUBLISH
X-WR-CALNAME:Greater Vancouver Intergroup Society AA
X-ORIGINAL-URL:https://vancouveraa.ca
X-WR-CALDESC:Events for Greater Vancouver Intergroup Society AA
REFRESH-INTERVAL;VALUE=DURATION:PT1H
X-Robots-Tag:noindex
X-PUBLISHED-TTL:PT1H
BEGIN:VTIMEZONE
TZID:America/Vancouver
BEGIN:DAYLIGHT
TZOFFSETFROM:-0800
TZOFFSETTO:-0700
TZNAME:PDT
DTSTART:20240310T100000
END:DAYLIGHT
BEGIN:STANDARD
TZOFFSETFROM:-0700
TZOFFSETTO:-0800
TZNAME:PST
DTSTART:20241103T090000
END:STANDARD
BEGIN:DAYLIGHT
TZOFFSETFROM:-0800
TZOFFSETTO:-0700
TZNAME:PDT
DTSTART:20250309T100000
END:DAYLIGHT
BEGIN:STANDARD
TZOFFSETFROM:-0700
TZOFFSETTO:-0800
TZNAME:PST
DTSTART:20251102T090000
END:STANDARD
BEGIN:DAYLIGHT
TZOFFSETFROM:-0800
TZOFFSETTO:-0700
TZNAME:PDT
DTSTART:20260308T100000
END:DAYLIGHT
BEGIN:STANDARD
TZOFFSETFROM:-0700
TZOFFSETTO:-0800
TZNAME:PST
DTSTART:20261101T090000
END:STANDARD
END:VTIMEZONE
BEGIN:VEVENT
DTSTART;TZID=America/Vancouver:20251206T140000
DTEND;TZID=America/Vancouver:20251206T163000
DTSTAMP:20260424T085944
CREATED:20251121T183442Z
LAST-MODIFIED:20251121T183442Z
UID:10002067-1765029600-1765038600@vancouveraa.ca
SUMMARY:District 42 Workshop: Service is for Everyone
DESCRIPTION:Click here for poster.
URL:https://vancouveraa.ca/event/district-42-workshop-service-is-for-everyone/
LOCATION:Easy Does It Club\, 7277 King George Highway\, Surrey\, BC\, V3W 5A7\, Canada
ATTACH;FMTTYPE=image/png:https://vancouveraa.ca/wp-content/uploads/2025/11/D42-Workshop-FI-e1763749899602.png
ORGANIZER;CN="District 42":MAILTO:web@district42aa.com
GEO:49.1349474;-122.8460655
X-APPLE-STRUCTURED-LOCATION;VALUE=URI;X-ADDRESS=Easy Does It Club 7277 King George Highway Surrey BC V3W 5A7 Canada;X-APPLE-RADIUS=500;X-TITLE=7277 King George Highway:geo:-122.8460655,49.1349474
END:VEVENT
BEGIN:VEVENT
DTSTART;TZID=America/Vancouver:20251206T184500
DTEND;TZID=America/Vancouver:20251206T220000
DTSTAMP:20260424T085944
CREATED:20251103T234808Z
LAST-MODIFIED:20251104T003950Z
UID:10002063-1765046700-1765058400@vancouveraa.ca
SUMMARY:LADNER SATURDAY NITE: 68th Annual Ham Dinner: Potluck Event
DESCRIPTION:
URL:https://vancouveraa.ca/event/ladner-saturday-nite-68th-annual-ham-dinner-potluck-event/
LOCATION:Ladner United Church\, 4960 48 Ave.\, Ladner\, BC\, V4K 4X6\, Canada
CATEGORIES:Event,Holiday Party
ATTACH;FMTTYPE=image/png:https://vancouveraa.ca/wp-content/uploads/2025/11/20251206-Ladner-Saturday-Nite-Ham-Dinner.png
GEO:49.0899255;-123.0860866
X-APPLE-STRUCTURED-LOCATION;VALUE=URI;X-ADDRESS=Ladner United Church 4960 48 Ave. Ladner BC V4K 4X6 Canada;X-APPLE-RADIUS=500;X-TITLE=4960 48 Ave.:geo:-123.0860866,49.0899255
END:VEVENT
END:VCALENDAR