BEGIN:VCALENDAR
VERSION:2.0
PRODID:-//Greater Vancouver Intergroup Society AA - ECPv6.15.20//NONSGML v1.0//EN
CALSCALE:GREGORIAN
METHOD:PUBLISH
X-ORIGINAL-URL:https://vancouveraa.ca
X-WR-CALDESC:Events for Greater Vancouver Intergroup Society AA
REFRESH-INTERVAL;VALUE=DURATION:PT1H
X-Robots-Tag:noindex
X-PUBLISHED-TTL:PT1H
BEGIN:VTIMEZONE
TZID:America/Vancouver
BEGIN:DAYLIGHT
TZOFFSETFROM:-0800
TZOFFSETTO:-0700
TZNAME:PDT
DTSTART:20250309T100000
END:DAYLIGHT
BEGIN:STANDARD
TZOFFSETFROM:-0700
TZOFFSETTO:-0800
TZNAME:PST
DTSTART:20251102T090000
END:STANDARD
BEGIN:DAYLIGHT
TZOFFSETFROM:-0800
TZOFFSETTO:-0700
TZNAME:PDT
DTSTART:20260308T100000
END:DAYLIGHT
BEGIN:STANDARD
TZOFFSETFROM:-0700
TZOFFSETTO:-0800
TZNAME:PST
DTSTART:20261101T090000
END:STANDARD
BEGIN:DAYLIGHT
TZOFFSETFROM:-0800
TZOFFSETTO:-0700
TZNAME:PDT
DTSTART:20270314T100000
END:DAYLIGHT
BEGIN:STANDARD
TZOFFSETFROM:-0700
TZOFFSETTO:-0800
TZNAME:PST
DTSTART:20271107T090000
END:STANDARD
END:VTIMEZONE
BEGIN:VEVENT
DTSTART;VALUE=DATE:20260417
DTEND;VALUE=DATE:20260420
DTSTAMP:20260423T130304
CREATED:20260129T230800Z
LAST-MODIFIED:20260129T231017Z
UID:10002099-1776384000-1776643199@vancouveraa.ca
SUMMARY:BC Yukon Area 79: 2026 April Pre-Conference Assembly
DESCRIPTION:To register\, click here.
URL:https://vancouveraa.ca/event/bc-yukon-area-79-2026-april-pre-conference-assembly/
LOCATION:Nikkei Centre\, 6688 Southoaks Cres\, Burnaby\, BC\, V5E 4M7\, Canada
CATEGORIES:Area 79 Cat.
ATTACH;FMTTYPE=image/png:https://vancouveraa.ca/wp-content/uploads/2026/01/20260417-BC-YUKON-PRE-CONFERENCE-CROPPED.png
GEO:49.2175818;-122.9643911
X-APPLE-STRUCTURED-LOCATION;VALUE=URI;X-ADDRESS=Nikkei Centre 6688 Southoaks Cres Burnaby BC V5E 4M7 Canada;X-APPLE-RADIUS=500;X-TITLE=6688 Southoaks Cres:geo:-122.9643911,49.2175818
END:VEVENT
END:VCALENDAR