BEGIN:VCALENDAR
VERSION:2.0
PRODID:-//Greater Vancouver Intergroup Society AA - ECPv6.15.20//NONSGML v1.0//EN
CALSCALE:GREGORIAN
METHOD:PUBLISH
X-ORIGINAL-URL:https://vancouveraa.ca
X-WR-CALDESC:Events for Greater Vancouver Intergroup Society AA
REFRESH-INTERVAL;VALUE=DURATION:PT1H
X-Robots-Tag:noindex
X-PUBLISHED-TTL:PT1H
BEGIN:VTIMEZONE
TZID:America/Vancouver
BEGIN:DAYLIGHT
TZOFFSETFROM:-0800
TZOFFSETTO:-0700
TZNAME:PDT
DTSTART:20240310T100000
END:DAYLIGHT
BEGIN:STANDARD
TZOFFSETFROM:-0700
TZOFFSETTO:-0800
TZNAME:PST
DTSTART:20241103T090000
END:STANDARD
BEGIN:DAYLIGHT
TZOFFSETFROM:-0800
TZOFFSETTO:-0700
TZNAME:PDT
DTSTART:20250309T100000
END:DAYLIGHT
BEGIN:STANDARD
TZOFFSETFROM:-0700
TZOFFSETTO:-0800
TZNAME:PST
DTSTART:20251102T090000
END:STANDARD
BEGIN:DAYLIGHT
TZOFFSETFROM:-0800
TZOFFSETTO:-0700
TZNAME:PDT
DTSTART:20260308T100000
END:DAYLIGHT
BEGIN:STANDARD
TZOFFSETFROM:-0700
TZOFFSETTO:-0800
TZNAME:PST
DTSTART:20261101T090000
END:STANDARD
BEGIN:DAYLIGHT
TZOFFSETFROM:-0800
TZOFFSETTO:-0700
TZNAME:PDT
DTSTART:20270314T100000
END:DAYLIGHT
BEGIN:STANDARD
TZOFFSETFROM:-0700
TZOFFSETTO:-0800
TZNAME:PST
DTSTART:20271107T090000
END:STANDARD
END:VTIMEZONE
BEGIN:VEVENT
DTSTART;TZID=America/Vancouver:20251101T100000
DTEND;TZID=America/Vancouver:20251101T120000
DTSTAMP:20260423T142218
CREATED:20251007T014334Z
LAST-MODIFIED:20251018T001757Z
UID:10002057-1761991200-1761998400@vancouveraa.ca
SUMMARY:Communications Committee: 12 STEP WORKSHOP
DESCRIPTION:Click Image for Printable Poster.
URL:https://vancouveraa.ca/event/communications-committee-12-step-workshop/
LOCATION:GVIS Central Office\, 3457 Kingsway\, Vancouver\, BC\, V5R 5L5\, Canada
CATEGORIES:Comm. Tel
ATTACH;FMTTYPE=image/png:https://vancouveraa.ca/wp-content/uploads/2025/10/20251101-Telephone-Twelve-Step-Sheet-Workshop-e1759800569855.png
ORGANIZER;CN="GVIS":MAILTO:staff@vancouveraa.ca
GEO:49.23222;-123.0307049
X-APPLE-STRUCTURED-LOCATION;VALUE=URI;X-ADDRESS=GVIS Central Office 3457 Kingsway Vancouver BC V5R 5L5 Canada;X-APPLE-RADIUS=500;X-TITLE=3457 Kingsway:geo:-123.0307049,49.23222
END:VEVENT
BEGIN:VEVENT
DTSTART;TZID=America/Vancouver:20251220T120000
DTEND;TZID=America/Vancouver:20251220T160000
DTSTAMP:20260423T142218
CREATED:20251021T142846Z
LAST-MODIFIED:20251021T142846Z
UID:10002061-1766232000-1766246400@vancouveraa.ca
SUMMARY:Communications Comm: 2025 Volunteer Appreciation Day!
DESCRIPTION:Click image or here for printable poster.
URL:https://vancouveraa.ca/event/communications-comm-2025-volunteer-appreciation-day/
LOCATION:GVIS Central Office\, 3457 Kingsway\, Vancouver\, BC\, V5R 5L5\, Canada
CATEGORIES:Event,Holiday Party
ATTACH;FMTTYPE=image/jpeg:https://vancouveraa.ca/wp-content/uploads/2025/10/2025-Communication-Comm-Volunteer-Appreciation-e1761056378315.jpg
ORGANIZER;CN="Communications Committee":MAILTO:communications@vancouveraa.ca
GEO:49.23222;-123.0307049
X-APPLE-STRUCTURED-LOCATION;VALUE=URI;X-ADDRESS=GVIS Central Office 3457 Kingsway Vancouver BC V5R 5L5 Canada;X-APPLE-RADIUS=500;X-TITLE=3457 Kingsway:geo:-123.0307049,49.23222
END:VEVENT
BEGIN:VEVENT
DTSTART;TZID=America/Vancouver:20260104T100000
DTEND;TZID=America/Vancouver:20260104T120000
DTSTAMP:20260423T142218
CREATED:20251204T212803Z
LAST-MODIFIED:20251204T212803Z
UID:10002072-1767520800-1767528000@vancouveraa.ca
SUMMARY:Communications Committee: Telephone Representative Workshop
DESCRIPTION:Click Image for Printable Poster
URL:https://vancouveraa.ca/event/communications-committee-telephone-representative-workshop/
LOCATION:GVIS Central Office\, 3457 Kingsway\, Vancouver\, BC\, V5R 5L5\, Canada
CATEGORIES:Comm. Tel,Event,GVIS Cat.
ATTACH;FMTTYPE=image/png:https://vancouveraa.ca/wp-content/uploads/2025/12/20260104-Telephone-representative-workshop.png
ORGANIZER;CN="Communications Committee":MAILTO:communications@vancouveraa.ca
GEO:49.23222;-123.0307049
X-APPLE-STRUCTURED-LOCATION;VALUE=URI;X-ADDRESS=GVIS Central Office 3457 Kingsway Vancouver BC V5R 5L5 Canada;X-APPLE-RADIUS=500;X-TITLE=3457 Kingsway:geo:-123.0307049,49.23222
END:VEVENT
BEGIN:VEVENT
DTSTART;TZID=America/Vancouver:20260120T193000
DTEND;TZID=America/Vancouver:20260120T213000
DTSTAMP:20260423T142218
CREATED:20260104T020331Z
LAST-MODIFIED:20260104T020331Z
UID:10002084-1768937400-1768944600@vancouveraa.ca
SUMMARY:Intergroup Committee Monthly Mtg
DESCRIPTION:
URL:https://vancouveraa.ca/event/intergroup-committee-monthly-mtg/2026-01-20/
LOCATION:GVIS Central Office\, 3457 Kingsway\, Vancouver\, BC\, V5R 5L5\, Canada
CATEGORIES:IG
ATTACH;FMTTYPE=image/png:https://vancouveraa.ca/wp-content/uploads/2026/01/2026-Intergroup-Monthly-Meeting.png
ORGANIZER;CN="Greater Vancouver Intergroup":MAILTO:staff@vancouveraa.ca
GEO:49.23222;-123.0307049
X-APPLE-STRUCTURED-LOCATION;VALUE=URI;X-ADDRESS=GVIS Central Office 3457 Kingsway Vancouver BC V5R 5L5 Canada;X-APPLE-RADIUS=500;X-TITLE=3457 Kingsway:geo:-123.0307049,49.23222
END:VEVENT
BEGIN:VEVENT
DTSTART;TZID=America/Vancouver:20260131T100000
DTEND;TZID=America/Vancouver:20260131T173000
DTSTAMP:20260423T142218
CREATED:20251203T233818Z
LAST-MODIFIED:20251203T235749Z
UID:10002071-1769853600-1769880600@vancouveraa.ca
SUMMARY:2026 RU CORRECTIONAL FACILITIES: Freedom From Bondage
DESCRIPTION:  \n\nClick image for printable poster
URL:https://vancouveraa.ca/event/2026-ru-correctional-facilities-freedom-from-bondage/
LOCATION:St. Laurence Anglican Church\, Saint Laurence Street\, Coquitlam\, BC\, V3J 6G7\, Canada
CATEGORIES:Comm. Corrections,Event
ATTACH;FMTTYPE=image/png:https://vancouveraa.ca/wp-content/uploads/2025/12/20260131-RU-Correction-Facilities.png
ORGANIZER;CN="Corrections Committtee Greater Vancouver":MAILTO:corrections@vancouveraa.ca
GEO:49.2646861;-122.8418053
X-APPLE-STRUCTURED-LOCATION;VALUE=URI;X-ADDRESS=St. Laurence Anglican Church Saint Laurence Street Coquitlam BC V3J 6G7 Canada;X-APPLE-RADIUS=500;X-TITLE=Saint Laurence Street:geo:-122.8418053,49.2646861
END:VEVENT
BEGIN:VEVENT
DTSTART;TZID=America/Vancouver:20260210T183000
DTEND;TZID=America/Vancouver:20260210T210000
DTSTAMP:20260423T142218
CREATED:20260203T180640Z
LAST-MODIFIED:20260203T180640Z
UID:10002101-1770748200-1770757200@vancouveraa.ca
SUMMARY:COME TO BELIEVE GRP: SPEAKER MEETING AND POTLUCK: 50yr celebration!
DESCRIPTION:Click here for printable poster:
URL:https://vancouveraa.ca/event/come-to-believe-grp-speaker-meeting-and-potluck-50yr-celebration/
LOCATION:Richmond Presbyterian Church\, 71111 No 2 Rd\, Richmond\, BC\, Canada
CATEGORIES:Event
ATTACH;FMTTYPE=image/png:https://vancouveraa.ca/wp-content/uploads/2026/02/20260210-Come-to-Believe-Speaker-Primary-Image.png
GEO:49.148356;-123.158967
X-APPLE-STRUCTURED-LOCATION;VALUE=URI;X-ADDRESS=Richmond Presbyterian Church 71111 No 2 Rd Richmond BC Canada;X-APPLE-RADIUS=500;X-TITLE=71111 No 2 Rd:geo:-123.158967,49.148356
END:VEVENT
BEGIN:VEVENT
DTSTART;TZID=America/Vancouver:20260217T193000
DTEND;TZID=America/Vancouver:20260217T213000
DTSTAMP:20260423T142218
CREATED:20260203T175553Z
LAST-MODIFIED:20260203T175605Z
UID:10002085-1771356600-1771363800@vancouveraa.ca
SUMMARY:Intergroup Committee Monthly Mtg: OC Elections for 2026-27 Term!
DESCRIPTION:
URL:https://vancouveraa.ca/event/intergroup-committee-monthly-mtg-2/
LOCATION:GVIS Central Office\, 3457 Kingsway\, Vancouver\, BC\, V5R 5L5\, Canada
CATEGORIES:IG
ATTACH;FMTTYPE=image/png:https://vancouveraa.ca/wp-content/uploads/2026/01/2026-Intergroup-Monthly-Meeting.png
ORGANIZER;CN="Greater Vancouver Intergroup":MAILTO:staff@vancouveraa.ca
GEO:49.23222;-123.0307049
X-APPLE-STRUCTURED-LOCATION;VALUE=URI;X-ADDRESS=GVIS Central Office 3457 Kingsway Vancouver BC V5R 5L5 Canada;X-APPLE-RADIUS=500;X-TITLE=3457 Kingsway:geo:-123.0307049,49.23222
END:VEVENT
BEGIN:VEVENT
DTSTART;TZID=America/Vancouver:20260317T193000
DTEND;TZID=America/Vancouver:20260317T213000
DTSTAMP:20260423T142218
CREATED:20260104T020331Z
LAST-MODIFIED:20260104T020331Z
UID:10002086-1773775800-1773783000@vancouveraa.ca
SUMMARY:Intergroup Committee Monthly Mtg
DESCRIPTION:
URL:https://vancouveraa.ca/event/intergroup-committee-monthly-mtg/2026-03-17/
LOCATION:GVIS Central Office\, 3457 Kingsway\, Vancouver\, BC\, V5R 5L5\, Canada
CATEGORIES:IG
ATTACH;FMTTYPE=image/png:https://vancouveraa.ca/wp-content/uploads/2026/01/2026-Intergroup-Monthly-Meeting.png
ORGANIZER;CN="Greater Vancouver Intergroup":MAILTO:staff@vancouveraa.ca
GEO:49.23222;-123.0307049
X-APPLE-STRUCTURED-LOCATION;VALUE=URI;X-ADDRESS=GVIS Central Office 3457 Kingsway Vancouver BC V5R 5L5 Canada;X-APPLE-RADIUS=500;X-TITLE=3457 Kingsway:geo:-123.0307049,49.23222
END:VEVENT
BEGIN:VEVENT
DTSTART;TZID=America/Vancouver:20260421T193000
DTEND;TZID=America/Vancouver:20260421T213000
DTSTAMP:20260423T142218
CREATED:20260104T020331Z
LAST-MODIFIED:20260104T020331Z
UID:10002087-1776799800-1776807000@vancouveraa.ca
SUMMARY:Intergroup Committee Monthly Mtg
DESCRIPTION:
URL:https://vancouveraa.ca/event/intergroup-committee-monthly-mtg/2026-04-21/
LOCATION:GVIS Central Office\, 3457 Kingsway\, Vancouver\, BC\, V5R 5L5\, Canada
CATEGORIES:IG
ATTACH;FMTTYPE=image/png:https://vancouveraa.ca/wp-content/uploads/2026/01/2026-Intergroup-Monthly-Meeting.png
ORGANIZER;CN="Greater Vancouver Intergroup":MAILTO:staff@vancouveraa.ca
GEO:49.23222;-123.0307049
X-APPLE-STRUCTURED-LOCATION;VALUE=URI;X-ADDRESS=GVIS Central Office 3457 Kingsway Vancouver BC V5R 5L5 Canada;X-APPLE-RADIUS=500;X-TITLE=3457 Kingsway:geo:-123.0307049,49.23222
END:VEVENT
END:VCALENDAR