BEGIN:VCALENDAR
VERSION:2.0
PRODID:-//Greater Vancouver Intergroup Society AA - ECPv6.15.20//NONSGML v1.0//EN
CALSCALE:GREGORIAN
METHOD:PUBLISH
X-ORIGINAL-URL:https://vancouveraa.ca
X-WR-CALDESC:Events for Greater Vancouver Intergroup Society AA
REFRESH-INTERVAL;VALUE=DURATION:PT1H
X-Robots-Tag:noindex
X-PUBLISHED-TTL:PT1H
BEGIN:VTIMEZONE
TZID:America/Vancouver
BEGIN:DAYLIGHT
TZOFFSETFROM:-0800
TZOFFSETTO:-0700
TZNAME:PDT
DTSTART:20240310T100000
END:DAYLIGHT
BEGIN:STANDARD
TZOFFSETFROM:-0700
TZOFFSETTO:-0800
TZNAME:PST
DTSTART:20241103T090000
END:STANDARD
BEGIN:DAYLIGHT
TZOFFSETFROM:-0800
TZOFFSETTO:-0700
TZNAME:PDT
DTSTART:20250309T100000
END:DAYLIGHT
BEGIN:STANDARD
TZOFFSETFROM:-0700
TZOFFSETTO:-0800
TZNAME:PST
DTSTART:20251102T090000
END:STANDARD
BEGIN:DAYLIGHT
TZOFFSETFROM:-0800
TZOFFSETTO:-0700
TZNAME:PDT
DTSTART:20260308T100000
END:DAYLIGHT
BEGIN:STANDARD
TZOFFSETFROM:-0700
TZOFFSETTO:-0800
TZNAME:PST
DTSTART:20261101T090000
END:STANDARD
END:VTIMEZONE
BEGIN:VEVENT
DTSTART;TZID=America/Vancouver:20251209T183000
DTEND;TZID=America/Vancouver:20251209T213000
DTSTAMP:20260425T084938
CREATED:20251103T232019Z
LAST-MODIFIED:20251104T004023Z
UID:10002062-1765305000-1765315800@vancouveraa.ca
SUMMARY:DEEP COVE GROUP: GRATITUDE NIGHT
DESCRIPTION:
URL:https://vancouveraa.ca/event/deep-cove-group-gratitude-night-2025/
LOCATION:Parkgate Community Centre\, 3625 Banff Crt.\, North Vancouver\, BC\, V7H 2Z8\, Canada
CATEGORIES:Event,Holiday Party
ATTACH;FMTTYPE=image/png:https://vancouveraa.ca/wp-content/uploads/2025/11/20251209-Deep-Cove-Gratitude-Dinner-Flyer.png
GEO:49.3178742;-122.9708249
X-APPLE-STRUCTURED-LOCATION;VALUE=URI;X-ADDRESS=Parkgate Community Centre 3625 Banff Crt. North Vancouver BC V7H 2Z8 Canada;X-APPLE-RADIUS=500;X-TITLE=3625 Banff Crt.:geo:-122.9708249,49.3178742
END:VEVENT
BEGIN:VEVENT
DTSTART;TZID=America/Vancouver:20251209T194500
DTEND;TZID=America/Vancouver:20251209T220000
DTSTAMP:20260425T084938
CREATED:20251106T025351Z
LAST-MODIFIED:20251106T025502Z
UID:10002065-1765309500-1765317600@vancouveraa.ca
SUMMARY:LOUGHEED SPEAKER Holiday Meeting
DESCRIPTION:
URL:https://vancouveraa.ca/event/lougheed-speaker-holiday-meeting/
LOCATION:8765 Government St.\, Government Street 8765\, Burnaby\, British Columbia\, V3N 4G9\, Canada
CATEGORIES:Event,Holiday Party
ATTACH;FMTTYPE=image/png:https://vancouveraa.ca/wp-content/uploads/2025/11/20251209-lougheed.png
GEO:49.2504797;-122.9104351
X-APPLE-STRUCTURED-LOCATION;VALUE=URI;X-ADDRESS=8765 Government St. Government Street 8765 Burnaby British Columbia V3N 4G9 Canada;X-APPLE-RADIUS=500;X-TITLE=Government Street 8765:geo:-122.9104351,49.2504797
END:VEVENT
BEGIN:VEVENT
DTSTART;TZID=America/Vancouver:20251214T200000
DTEND;TZID=America/Vancouver:20251214T230000
DTSTAMP:20260425T084939
CREATED:20251124T213741Z
LAST-MODIFIED:20251209T180613Z
UID:10002068-1765742400-1765753200@vancouveraa.ca
SUMMARY:FRASER VALLEY YOUNG PEOPLE's 71st Anniversary Dinner Celebration
DESCRIPTION:Click here or image for poster.
URL:https://vancouveraa.ca/event/fraser-valley-young-peoples-71st-anniversary-dinner-celebration/
LOCATION:Saint Aidans Presbyterian Church\, 1320 7th Ave\, New Westminster\, British Columbia\, V3M 2K5\, Canada
CATEGORIES:Event,Holiday Party
ATTACH;FMTTYPE=image/png:https://vancouveraa.ca/wp-content/uploads/2025/11/FVYP-FI-6.png
GEO:49.207234;-122.9348962
X-APPLE-STRUCTURED-LOCATION;VALUE=URI;X-ADDRESS=Saint Aidans Presbyterian Church 1320 7th Ave New Westminster British Columbia V3M 2K5 Canada;X-APPLE-RADIUS=500;X-TITLE=1320 7th Ave:geo:-122.9348962,49.207234
END:VEVENT
END:VCALENDAR