BEGIN:VCALENDAR
VERSION:2.0
PRODID:-//Greater Vancouver Intergroup Society AA - ECPv6.15.20//NONSGML v1.0//EN
CALSCALE:GREGORIAN
METHOD:PUBLISH
X-WR-CALNAME:Greater Vancouver Intergroup Society AA
X-ORIGINAL-URL:https://vancouveraa.ca
X-WR-CALDESC:Events for Greater Vancouver Intergroup Society AA
REFRESH-INTERVAL;VALUE=DURATION:PT1H
X-Robots-Tag:noindex
X-PUBLISHED-TTL:PT1H
BEGIN:VTIMEZONE
TZID:America/Vancouver
BEGIN:DAYLIGHT
TZOFFSETFROM:-0800
TZOFFSETTO:-0700
TZNAME:PDT
DTSTART:20240310T100000
END:DAYLIGHT
BEGIN:STANDARD
TZOFFSETFROM:-0700
TZOFFSETTO:-0800
TZNAME:PST
DTSTART:20241103T090000
END:STANDARD
BEGIN:DAYLIGHT
TZOFFSETFROM:-0800
TZOFFSETTO:-0700
TZNAME:PDT
DTSTART:20250309T100000
END:DAYLIGHT
BEGIN:STANDARD
TZOFFSETFROM:-0700
TZOFFSETTO:-0800
TZNAME:PST
DTSTART:20251102T090000
END:STANDARD
BEGIN:DAYLIGHT
TZOFFSETFROM:-0800
TZOFFSETTO:-0700
TZNAME:PDT
DTSTART:20260308T100000
END:DAYLIGHT
BEGIN:STANDARD
TZOFFSETFROM:-0700
TZOFFSETTO:-0800
TZNAME:PST
DTSTART:20261101T090000
END:STANDARD
END:VTIMEZONE
BEGIN:VEVENT
DTSTART;TZID=America/Vancouver:20250614T103000
DTEND;TZID=America/Vancouver:20250614T173000
DTSTAMP:20260424T024600
CREATED:20250521T210415Z
LAST-MODIFIED:20250522T232249Z
UID:10002036-1749897000-1749922200@vancouveraa.ca
SUMMARY:District 18: Founder's Day/ Delegates Report
DESCRIPTION:
URL:https://vancouveraa.ca/event/district-18-delegates-report/
LOCATION:North Shore Alano Club\, 176 E. 2nd St.\, North Vancouver\, BC\, V7L 1C3\, Canada
CATEGORIES:Area 79 Cat.,DC Workshops
ATTACH;FMTTYPE=image/png:https://vancouveraa.ca/wp-content/uploads/2025/05/d18-Founders-Day-e1747955915807.png
GEO:49.3123667;-123.0764561
X-APPLE-STRUCTURED-LOCATION;VALUE=URI;X-ADDRESS=North Shore Alano Club 176 E. 2nd St. North Vancouver BC V7L 1C3 Canada;X-APPLE-RADIUS=500;X-TITLE=176 E. 2nd St.:geo:-123.0764561,49.3123667
END:VEVENT
BEGIN:VEVENT
DTSTART;TZID=America/Vancouver:20250614T123000
DTEND;TZID=America/Vancouver:20250614T170000
DTSTAMP:20260424T024600
CREATED:20250428T201424Z
LAST-MODIFIED:20250428T201424Z
UID:10002027-1749904200-1749920400@vancouveraa.ca
SUMMARY:Delegates Report and Founders Day BBQ
DESCRIPTION:Click here for poster.
URL:https://vancouveraa.ca/event/delegates-report-and-founders-day-bbq/
LOCATION:Cloverdale United Church\, 17575 58A Ave\, Surrey\, BC\, V3S 1N1\, Canada
CATEGORIES:DC Misc.
ATTACH;FMTTYPE=image/jpeg:https://vancouveraa.ca/wp-content/uploads/2025/04/FI-Delegates-BBQ-District-37-38-42-43-e1745871061851.jpg
GEO:49.1089592;-122.7364734
X-APPLE-STRUCTURED-LOCATION;VALUE=URI;X-ADDRESS=Cloverdale United Church 17575 58A Ave Surrey BC V3S 1N1 Canada;X-APPLE-RADIUS=500;X-TITLE=17575 58A Ave:geo:-122.7364734,49.1089592
END:VEVENT
BEGIN:VEVENT
DTSTART;VALUE=DATE:20250627
DTEND;VALUE=DATE:20250630
DTSTAMP:20260424T024600
CREATED:20250512T223323Z
LAST-MODIFIED:20250512T223546Z
UID:10002030-1750982400-1751241599@vancouveraa.ca
SUMMARY:Our Primary Purpose Is Primary Big Book Workshop
DESCRIPTION:
URL:https://vancouveraa.ca/event/our-primary-purpose-is-primary-big-book-workshop/
LOCATION:Croation Cultural Centre\, 3250 Commercial Drive\, Vancouver\, BC\, Canada
CATEGORIES:Event,Roundups
ATTACH;FMTTYPE=image/png:https://vancouveraa.ca/wp-content/uploads/2025/05/2025-Our-Primary-Purpose-is-Primary-Big-Book-Workshop-e1747089079446.png
GEO:49.2554699;-123.0683044
X-APPLE-STRUCTURED-LOCATION;VALUE=URI;X-ADDRESS=Croation Cultural Centre 3250 Commercial Drive Vancouver BC Canada;X-APPLE-RADIUS=500;X-TITLE=3250 Commercial Drive:geo:-123.0683044,49.2554699
END:VEVENT
BEGIN:VEVENT
DTSTART;TZID=America/Vancouver:20250630T195500
DTEND;TZID=America/Vancouver:20250630T212000
DTSTAMP:20260424T024600
CREATED:20250627T231812Z
LAST-MODIFIED:20250627T232021Z
UID:10002044-1751313300-1751318400@vancouveraa.ca
SUMMARY:BAY GRP: Speaker Meeting Bob D.
DESCRIPTION:Click here for PDF
URL:https://vancouveraa.ca/event/bay-grp-20250630/
LOCATION:Vancouver Recovery Club\, 2775 Sophia Street\, Vancouver\, V5T 3L1
CATEGORIES:Event,Event Misc.
ATTACH;FMTTYPE=image/png:https://vancouveraa.ca/wp-content/uploads/2025/06/BAY-GRP-BOB-D-e1751066056529.png
GEO:49.2605641;-123.0984775
X-APPLE-STRUCTURED-LOCATION;VALUE=URI;X-ADDRESS=Vancouver Recovery Club 2775 Sophia Street Vancouver V5T 3L1;X-APPLE-RADIUS=500;X-TITLE=2775 Sophia Street:geo:-123.0984775,49.2605641
END:VEVENT
BEGIN:VEVENT
DTSTART;VALUE=DATE:20250703
DTEND;VALUE=DATE:20250707
DTSTAMP:20260424T024600
CREATED:20250515T203828Z
LAST-MODIFIED:20250515T204017Z
UID:10002031-1751500800-1751846399@vancouveraa.ca
SUMMARY:2025 A.A. International Conventiom
DESCRIPTION:Click here for poster.
URL:https://vancouveraa.ca/event/2025-a-a-international-conventiom/
LOCATION:Vancouver Convention Centre\, 999 Canada Pl.\, Vancouver\, BC\, V6C 3C1\, Canada
CATEGORIES:Event
ATTACH;FMTTYPE=image/jpeg:https://vancouveraa.ca/wp-content/uploads/2025/05/2025ICFlyer_registration_en-FI-e1747341032303.jpg
GEO:49.2877204;-123.113231
X-APPLE-STRUCTURED-LOCATION;VALUE=URI;X-ADDRESS=Vancouver Convention Centre 999 Canada Pl. Vancouver BC V6C 3C1 Canada;X-APPLE-RADIUS=500;X-TITLE=999 Canada Pl.:geo:-123.113231,49.2877204
END:VEVENT
BEGIN:VEVENT
DTSTART;TZID=America/Vancouver:20250704T130000
DTEND;TZID=America/Vancouver:20250704T150000
DTSTAMP:20260424T024600
CREATED:20250523T200226Z
LAST-MODIFIED:20250523T204255Z
UID:10002038-1751634000-1751641200@vancouveraa.ca
SUMMARY:2025 Language of the Heart: Behind the Walls - International
DESCRIPTION:
URL:https://vancouveraa.ca/event/2025-language-of-the-heart-behind-the-walls-international/
LOCATION:False Creek Community Centre\, 1318 Cartwright Street\, Vancouver\, BC\, V6H 3R8\, Canada
CATEGORIES:Comm. Corrections,GVIS Cat.
ATTACH;FMTTYPE=image/png:https://vancouveraa.ca/wp-content/uploads/2025/05/2025-Language-of-the-Heart-Behind-the-Walls-e1748032947120.png
ORGANIZER;CN="Corrections Committtee Greater Vancouver":MAILTO:corrections@vancouveraa.ca
GEO:49.2696321;-123.1342305
X-APPLE-STRUCTURED-LOCATION;VALUE=URI;X-ADDRESS=False Creek Community Centre 1318 Cartwright Street Vancouver BC V6H 3R8 Canada;X-APPLE-RADIUS=500;X-TITLE=1318 Cartwright Street:geo:-123.1342305,49.2696321
END:VEVENT
BEGIN:VEVENT
DTSTART;TZID=America/Vancouver:20250722T183000
DTEND;TZID=America/Vancouver:20250722T210000
DTSTAMP:20260424T024600
CREATED:20250612T005310Z
LAST-MODIFIED:20250612T005310Z
UID:10002041-1753209000-1753218000@vancouveraa.ca
SUMMARY:Come to Believe Speaker Meeting & Potluck
DESCRIPTION:Click here for poster.
URL:https://vancouveraa.ca/event/come-to-believe-speaker-meeting-potluck/
LOCATION:Richmond Presbyterian Church\, 71111 No 2 Rd\, Richmond\, BC\, Canada
ATTACH;FMTTYPE=image/png:https://vancouveraa.ca/wp-content/uploads/2025/06/Come-to-Believe-Speaker-FI-e1749689428487.png
GEO:49.148356;-123.158967
X-APPLE-STRUCTURED-LOCATION;VALUE=URI;X-ADDRESS=Richmond Presbyterian Church 71111 No 2 Rd Richmond BC Canada;X-APPLE-RADIUS=500;X-TITLE=71111 No 2 Rd:geo:-123.158967,49.148356
END:VEVENT
BEGIN:VEVENT
DTSTART;TZID=America/Vancouver:20250727T110000
DTEND;TZID=America/Vancouver:20250727T160000
DTSTAMP:20260424T024601
CREATED:20250520T193842Z
LAST-MODIFIED:20250520T193842Z
UID:10002034-1753614000-1753632000@vancouveraa.ca
SUMMARY:District 41 BBQ
DESCRIPTION:Click here for poster.
URL:https://vancouveraa.ca/event/district-41-bbq/
LOCATION:Maple Ridge Park\, 13180 232nd Street\, Maple Ridge\, BC\, V4R 2S7\, Canada
CATEGORIES:Event
ATTACH;FMTTYPE=image/png:https://vancouveraa.ca/wp-content/uploads/2025/05/D41-BBQ-FI-e1747769777323.png
ORGANIZER;CN="District 41":MAILTO:district41dcm@gmail.com
GEO:49.241376;-122.5776888
X-APPLE-STRUCTURED-LOCATION;VALUE=URI;X-ADDRESS=Maple Ridge Park 13180 232nd Street Maple Ridge BC V4R 2S7 Canada;X-APPLE-RADIUS=500;X-TITLE=13180 232nd Street:geo:-122.5776888,49.241376
END:VEVENT
BEGIN:VEVENT
DTSTART;TZID=America/Vancouver:20250805T173000
DTEND;TZID=America/Vancouver:20250805T190000
DTSTAMP:20260424T024601
CREATED:20250718T030117Z
LAST-MODIFIED:20250718T030117Z
UID:10002047-1754415000-1754420400@vancouveraa.ca
SUMMARY:Sunshine and Good Times
DESCRIPTION:Click here for poster.
URL:https://vancouveraa.ca/event/sunshine-and-good-times/
LOCATION:Ebisu Park\, 8810 Osler St.\, Vancouver\, BC\, Canada
ATTACH;FMTTYPE=image/png:https://vancouveraa.ca/wp-content/uploads/2025/07/Sunshine-and-Good-Times-FI-e1752807654992.png
GEO:49.2054636;-123.1322719
X-APPLE-STRUCTURED-LOCATION;VALUE=URI;X-ADDRESS=Ebisu Park 8810 Osler St. Vancouver BC Canada;X-APPLE-RADIUS=500;X-TITLE=8810 Osler St.:geo:-123.1322719,49.2054636
END:VEVENT
BEGIN:VEVENT
DTSTART;TZID=America/Vancouver:20250810T150000
DTEND;TZID=America/Vancouver:20250810T180000
DTSTAMP:20260424T024601
CREATED:20250721T225923Z
LAST-MODIFIED:20250721T225923Z
UID:10002048-1754838000-1754848800@vancouveraa.ca
SUMMARY:FELLOWSHIP OF THE SPIRIT: BBQ Party
DESCRIPTION:Click here for poster.
URL:https://vancouveraa.ca/event/fellowship-of-the-spirit-bbq-party/
LOCATION:QUILCHENA PARK\, 4590 Magnolia St\, VANCOUVER\, British Columbia\, V6J 4B5\, Canada
CATEGORIES:Event Misc.
ATTACH;FMTTYPE=image/png:https://vancouveraa.ca/wp-content/uploads/2025/07/Fellowship-BBQ-FI-e1753138731345.png
GEO:49.2451254;-123.1496734
X-APPLE-STRUCTURED-LOCATION;VALUE=URI;X-ADDRESS=QUILCHENA PARK 4590 Magnolia St VANCOUVER British Columbia V6J 4B5 Canada;X-APPLE-RADIUS=500;X-TITLE=4590 Magnolia St:geo:-123.1496734,49.2451254
END:VEVENT
BEGIN:VEVENT
DTSTART;VALUE=DATE:20250822
DTEND;VALUE=DATE:20250825
DTSTAMP:20260424T024601
CREATED:20250623T233017Z
LAST-MODIFIED:20250623T233017Z
UID:10002042-1755820800-1756079999@vancouveraa.ca
SUMMARY:GSO: East Central Regional Forum
DESCRIPTION:Click here to see pdf \n 
URL:https://vancouveraa.ca/event/gso-east-central-regional-forum/
CATEGORIES:GSO Cat.
ATTACH;FMTTYPE=image/png:https://vancouveraa.ca/wp-content/uploads/2025/06/EN_2025_ECenRF_Flyer_v2-e1750721192164.png
END:VEVENT
BEGIN:VEVENT
DTSTART;VALUE=DATE:20250823
DTEND;VALUE=DATE:20250825
DTSTAMP:20260424T024601
CREATED:20250821T234443Z
LAST-MODIFIED:20250821T234443Z
UID:10002052-1755907200-1756079999@vancouveraa.ca
SUMMARY:Sea to Sky Roundup
DESCRIPTION:Click here for poster.
URL:https://vancouveraa.ca/event/sea-to-sky-roundup-3/
LOCATION:Squamish Nation Totem Hall\, 1380 Stawamus Rd\, Squamish\, BC\, V8B0B5\, Canada
ATTACH;FMTTYPE=image/png:https://vancouveraa.ca/wp-content/uploads/2025/08/sea2sky-FI-e1755819846397.png
GEO:49.6914053;-123.1477928
X-APPLE-STRUCTURED-LOCATION;VALUE=URI;X-ADDRESS=Squamish Nation Totem Hall 1380 Stawamus Rd Squamish BC V8B0B5 Canada;X-APPLE-RADIUS=500;X-TITLE=1380 Stawamus Rd:geo:-123.1477928,49.6914053
END:VEVENT
BEGIN:VEVENT
DTSTART;VALUE=DATE:20250905
DTEND;VALUE=DATE:20250908
DTSTAMP:20260424T024601
CREATED:20250819T190635Z
LAST-MODIFIED:20250819T190635Z
UID:10002051-1757030400-1757289599@vancouveraa.ca
SUMMARY:Bridging the Gap Workshop Weekend
DESCRIPTION:Click here for poster.
URL:https://vancouveraa.ca/event/bridging-the-gap-workshop-weekend/
LOCATION:Sheraton Hotel & Conference Centre\, 714 Lakeway Dr\, Bellingham\, WA\, WA\, United States
ATTACH;FMTTYPE=image/jpeg:https://vancouveraa.ca/wp-content/uploads/2025/08/BTG-Workshop-e1755630293192.jpg
GEO:48.7429738;-122.4661088
X-APPLE-STRUCTURED-LOCATION;VALUE=URI;X-ADDRESS=Sheraton Hotel & Conference Centre 714 Lakeway Dr Bellingham WA WA United States;X-APPLE-RADIUS=500;X-TITLE=714 Lakeway Dr:geo:-122.4661088,48.7429738
END:VEVENT
BEGIN:VEVENT
DTSTART;VALUE=DATE:20250905
DTEND;VALUE=DATE:20250908
DTSTAMP:20260424T024601
CREATED:20250502T230930Z
LAST-MODIFIED:20250502T230930Z
UID:10002028-1757030400-1757289599@vancouveraa.ca
SUMMARY:2025 West Shore Recovery Retreat
DESCRIPTION:
URL:https://vancouveraa.ca/event/2025-west-shore-recovery-retreat/
LOCATION:3498 Luxton Road\, 3498 Luxton Road\, Lanford\, British Columbia.\, Canada
CATEGORIES:Event,Event Misc.,Roundups
ATTACH;FMTTYPE=image/png:https://vancouveraa.ca/wp-content/uploads/2025/05/2025-West-Shore-Recovery-Retreat-e1746227247986.png
GEO:48.4193698;-123.5369677
X-APPLE-STRUCTURED-LOCATION;VALUE=URI;X-ADDRESS=3498 Luxton Road 3498 Luxton Road Lanford British Columbia. Canada;X-APPLE-RADIUS=500;X-TITLE=3498 Luxton Road:geo:-123.5369677,48.4193698
END:VEVENT
BEGIN:VEVENT
DTSTART;VALUE=DATE:20250912
DTEND;VALUE=DATE:20250915
DTSTAMP:20260424T024601
CREATED:20250404T214838Z
LAST-MODIFIED:20250404T214838Z
UID:10002018-1757635200-1757894399@vancouveraa.ca
SUMMARY:2025 Men's Fall Retreat
DESCRIPTION:
URL:https://vancouveraa.ca/event/2025-mens-fall-retreat/
LOCATION:Sasamat Outdoor Centre\, 3302 Senkler Rd.\, Belcarra\, BC\, V3H 4S3\, Canada
ATTACH;FMTTYPE=image/jpeg:https://vancouveraa.ca/wp-content/uploads/2025/04/2025-Mens-Fall-Retreat-e1743803185328.jpg
GEO:49.3241123;-122.9000456
X-APPLE-STRUCTURED-LOCATION;VALUE=URI;X-ADDRESS=Sasamat Outdoor Centre 3302 Senkler Rd. Belcarra BC V3H 4S3 Canada;X-APPLE-RADIUS=500;X-TITLE=3302 Senkler Rd.:geo:-122.9000456,49.3241123
END:VEVENT
BEGIN:VEVENT
DTSTART;TZID=America/Vancouver:20250917T190000
DTEND;TZID=America/Vancouver:20250917T190000
DTSTAMP:20260424T024601
CREATED:20250907T191802Z
LAST-MODIFIED:20250907T191821Z
UID:10002055-1758135600-1758135600@vancouveraa.ca
SUMMARY:Book Study: Starts Wed.\, Sept. 17\, Plain Language Big Book
DESCRIPTION:
URL:https://vancouveraa.ca/event/book-study-starts-wed-sept-17-plain-language-big-book/
LOCATION:North Shore Alano Club\, 176 E. 2nd St.\, North Vancouver\, BC\, V7L 1C3\, Canada
CATEGORIES:Event Misc.
ATTACH;FMTTYPE=image/png:https://vancouveraa.ca/wp-content/uploads/2025/09/2025-Plain-Language-Mtg-NS-Alano-e1757272550793.png
GEO:49.3123667;-123.0764561
X-APPLE-STRUCTURED-LOCATION;VALUE=URI;X-ADDRESS=North Shore Alano Club 176 E. 2nd St. North Vancouver BC V7L 1C3 Canada;X-APPLE-RADIUS=500;X-TITLE=176 E. 2nd St.:geo:-123.0764561,49.3123667
END:VEVENT
BEGIN:VEVENT
DTSTART;VALUE=DATE:20250919
DTEND;VALUE=DATE:20250922
DTSTAMP:20260424T024601
CREATED:20250730T185513Z
LAST-MODIFIED:20250730T185513Z
UID:10002050-1758240000-1758499199@vancouveraa.ca
SUMMARY:A Weekend with the Steps Women's Retreat
DESCRIPTION:Click here for poster.
URL:https://vancouveraa.ca/event/a-weekend-with-the-steps-womens-retreat/
LOCATION:Sasamat Outdoor Centre\, 3302 Senkler Rd.\, Belcarra\, BC\, V3H 4S3\, Canada
ATTACH;FMTTYPE=image/png:https://vancouveraa.ca/wp-content/uploads/2025/07/2025weekend-with-the-steps-FI-e1753901686490.png
GEO:49.3241123;-122.9000456
X-APPLE-STRUCTURED-LOCATION;VALUE=URI;X-ADDRESS=Sasamat Outdoor Centre 3302 Senkler Rd. Belcarra BC V3H 4S3 Canada;X-APPLE-RADIUS=500;X-TITLE=3302 Senkler Rd.:geo:-122.9000456,49.3241123
END:VEVENT
BEGIN:VEVENT
DTSTART;TZID=America/Vancouver:20250919T150000
DTEND;TZID=America/Vancouver:20250921T120000
DTSTAMP:20260424T024601
CREATED:20250707T221117Z
LAST-MODIFIED:20250707T221117Z
UID:10002045-1758294000-1758456000@vancouveraa.ca
SUMMARY:Live Easy But Think First Rally
DESCRIPTION:Click here for poster.
URL:https://vancouveraa.ca/event/live-easy-but-think-first-rally/
LOCATION:4102 Hollywood Street\, Port Alberni\, BC\, 4102 Hollywood Street\, Port Alberni\, BC\, V9Y 7M1\, Canada
CATEGORIES:Roundups
ATTACH;FMTTYPE=image/png:https://vancouveraa.ca/wp-content/uploads/2025/07/Port-Alberni-Rally-2025-FI-e1751926259817.png
GEO:49.2576033;-124.7953623
X-APPLE-STRUCTURED-LOCATION;VALUE=URI;X-ADDRESS=4102 Hollywood Street Port Alberni BC 4102 Hollywood Street Port Alberni BC V9Y 7M1 Canada;X-APPLE-RADIUS=500;X-TITLE=4102 Hollywood Street:geo:-124.7953623,49.2576033
END:VEVENT
BEGIN:VEVENT
DTSTART;TZID=America/Vancouver:20250927T090000
DTEND;TZID=America/Vancouver:20250927T143000
DTSTAMP:20260424T024601
CREATED:20250627T225710Z
LAST-MODIFIED:20250907T185847Z
UID:10002043-1758963600-1758983400@vancouveraa.ca
SUMMARY:Tri-Cities Women's Day 2025
DESCRIPTION:Printable poster available
URL:https://vancouveraa.ca/event/tri-cities-womens-day-2025/
LOCATION:2600 Austin Avenue\, Austin Avenue\, Coquitlam\, BC\, V3K 6C4\, Canada
CATEGORIES:Roundups
ATTACH;FMTTYPE=image/png:https://vancouveraa.ca/wp-content/uploads/2025/09/2025-Tri-cities-Womens-FI-e1757271171592.png
GEO:49.2487119;-122.8203782
X-APPLE-STRUCTURED-LOCATION;VALUE=URI;X-ADDRESS=2600 Austin Avenue Austin Avenue Coquitlam BC V3K 6C4 Canada;X-APPLE-RADIUS=500;X-TITLE=Austin Avenue:geo:-122.8203782,49.2487119
END:VEVENT
BEGIN:VEVENT
DTSTART;TZID=America/Vancouver:20251004T090000
DTEND;TZID=America/Vancouver:20251004T220000
DTSTAMP:20260424T024601
CREATED:20250905T214732Z
LAST-MODIFIED:20250905T215408Z
UID:10002054-1759568400-1759615200@vancouveraa.ca
SUMMARY:RU Richmond: Living Sober\, 40th Anniversary
DESCRIPTION:Click poster to see printable version
URL:https://vancouveraa.ca/event/ru-richmond-living-sober-40th-2025/
LOCATION:McNair Secondary School\, 9500 No. 4 Road\, Richmond\, BC\, V7A2Y9\, Canada
ATTACH;FMTTYPE=image/png:https://vancouveraa.ca/wp-content/uploads/2025/09/2025-RU-RICHMOND-e1757108969674.png
ORGANIZER;CN="RU Richmond":MAILTO:richroundup@gmail.com
GEO:49.1424639;-123.1137991
X-APPLE-STRUCTURED-LOCATION;VALUE=URI;X-ADDRESS=McNair Secondary School 9500 No. 4 Road Richmond BC V7A2Y9 Canada;X-APPLE-RADIUS=500;X-TITLE=9500 No. 4 Road:geo:-123.1137991,49.1424639
END:VEVENT
BEGIN:VEVENT
DTSTART;VALUE=DATE:20251010
DTEND;VALUE=DATE:20251012
DTSTAMP:20260424T024601
CREATED:20250521T201232Z
LAST-MODIFIED:20250521T201232Z
UID:10002035-1760054400-1760227199@vancouveraa.ca
SUMMARY:Vancouver Roundup
DESCRIPTION:Click here for poster.
URL:https://vancouveraa.ca/event/vancouver-roundup-2/
LOCATION:Hyatt Regency\, 655 Burrard Street\, Vancouver\, BC\, V6C 2R7\, Canada
CATEGORIES:Roundups
ATTACH;FMTTYPE=image/jpeg:https://vancouveraa.ca/wp-content/uploads/2025/05/Van-ROUNDUP-2025-FI-e1747858078745.jpg
GEO:49.2853144;-123.1207419
X-APPLE-STRUCTURED-LOCATION;VALUE=URI;X-ADDRESS=Hyatt Regency 655 Burrard Street Vancouver BC V6C 2R7 Canada;X-APPLE-RADIUS=500;X-TITLE=655 Burrard Street:geo:-123.1207419,49.2853144
END:VEVENT
BEGIN:VEVENT
DTSTART;VALUE=DATE:20251010
DTEND;VALUE=DATE:20251013
DTSTAMP:20260424T024601
CREATED:20250708T193509Z
LAST-MODIFIED:20251007T020048Z
UID:10002046-1760054400-1760313599@vancouveraa.ca
SUMMARY:Rose City Girl Stock 2025
DESCRIPTION:Click here for poster.
URL:https://vancouveraa.ca/event/rose-city-girl-stock-2025/
LOCATION:Holiday Inn Hotel\, 1110 Howe Street\, Vancouver\, British Columbia\, V6Z1R2\, Canada
CATEGORIES:Roundups
GEO:49.2784331;-123.1256285
X-APPLE-STRUCTURED-LOCATION;VALUE=URI;X-ADDRESS=Holiday Inn Hotel 1110 Howe Street Vancouver British Columbia V6Z1R2 Canada;X-APPLE-RADIUS=500;X-TITLE=1110 Howe Street:geo:-123.1256285,49.2784331
END:VEVENT
BEGIN:VEVENT
DTSTART;TZID=America/Vancouver:20251013T190000
DTEND;TZID=America/Vancouver:20251013T213000
DTSTAMP:20260424T024601
CREATED:20251009T205433Z
LAST-MODIFIED:20251009T205623Z
UID:10002058-1760382000-1760391000@vancouveraa.ca
SUMMARY:BAY GROUP THANKSGIVING
DESCRIPTION:Click Image For Printable Poster
URL:https://vancouveraa.ca/event/bay-group-thanksgiving/
LOCATION:Vancouver Recovery Club\, 2775 Sophia Street\, Vancouver\, V5T 3L1
CATEGORIES:Anniversary,Event
ATTACH;FMTTYPE=image/png:https://vancouveraa.ca/wp-content/uploads/2025/10/20251013-BAY-GRP-THANKSGIVING-e1760043198689.png
GEO:49.2605641;-123.0984775
X-APPLE-STRUCTURED-LOCATION;VALUE=URI;X-ADDRESS=Vancouver Recovery Club 2775 Sophia Street Vancouver V5T 3L1;X-APPLE-RADIUS=500;X-TITLE=2775 Sophia Street:geo:-123.0984775,49.2605641
END:VEVENT
BEGIN:VEVENT
DTSTART;TZID=America/Vancouver:20251016T190000
DTEND;TZID=America/Vancouver:20251016T200000
DTSTAMP:20260424T024601
CREATED:20251009T212226Z
LAST-MODIFIED:20251009T212226Z
UID:10002059-1760641200-1760644800@vancouveraa.ca
SUMMARY:AREA 79 Literature Corner
DESCRIPTION:Click here for printable poster.
URL:https://vancouveraa.ca/event/area-79-literature-corner/
CATEGORIES:Area 79 Cat.,DC Workshops
ATTACH;FMTTYPE=image/png:https://vancouveraa.ca/wp-content/uploads/2025/10/20251016-BC-YUKON-LITERATURE-CORNER-e1760044885264.png
LOCATION:https://zoom.us/j/87988077565
END:VEVENT
BEGIN:VEVENT
DTSTART;VALUE=DATE:20251017
DTEND;VALUE=DATE:20251020
DTSTAMP:20260424T024601
CREATED:20250721T230551Z
LAST-MODIFIED:20250929T233706Z
UID:10002049-1760659200-1760918399@vancouveraa.ca
SUMMARY:Bakerstock
DESCRIPTION:Click here for poster.
URL:https://vancouveraa.ca/event/bakerstock/
LOCATION:Silver Reef Casono\, 4876 Haxton Way\, Ferndale\, WA\, United States
CATEGORIES:Event
ATTACH;FMTTYPE=image/png:https://vancouveraa.ca/wp-content/uploads/2025/07/Bakerstock-flyer2-FI.png
GEO:48.8174308;-122.6259531
X-APPLE-STRUCTURED-LOCATION;VALUE=URI;X-ADDRESS=Silver Reef Casono 4876 Haxton Way Ferndale WA United States;X-APPLE-RADIUS=500;X-TITLE=4876 Haxton Way:geo:-122.6259531,48.8174308
END:VEVENT
BEGIN:VEVENT
DTSTART;TZID=America/Vancouver:20251018T130000
DTEND;TZID=America/Vancouver:20251018T150000
DTSTAMP:20260424T024601
CREATED:20251014T184631Z
LAST-MODIFIED:20251014T184849Z
UID:10002060-1760792400-1760799600@vancouveraa.ca
SUMMARY:District 40 and BC Yukon Area Workshop: Safety in AA
DESCRIPTION:Click the Poster of here for printable version \nSafety in AA
URL:https://vancouveraa.ca/event/district-40-and-bc-yukon-area-workshop-safety-in-aa/
LOCATION:King of Life Lutheran Church\, 1198 Falcon Dr\, Coquitlam\, BC\, V3E 2M4\, Canada
CATEGORIES:DC Workshops
ATTACH;FMTTYPE=image/jpeg:https://vancouveraa.ca/wp-content/uploads/2025/10/20251018-D40-WORKSHOP-Copy-e1760467439955.jpg
GEO:49.284377;-122.819205
X-APPLE-STRUCTURED-LOCATION;VALUE=URI;X-ADDRESS=King of Life Lutheran Church 1198 Falcon Dr Coquitlam BC V3E 2M4 Canada;X-APPLE-RADIUS=500;X-TITLE=1198 Falcon Dr:geo:-122.819205,49.284377
END:VEVENT
BEGIN:VEVENT
DTSTART;TZID=America/Vancouver:20251101T100000
DTEND;TZID=America/Vancouver:20251101T120000
DTSTAMP:20260424T024601
CREATED:20251007T014334Z
LAST-MODIFIED:20251018T001757Z
UID:10002057-1761991200-1761998400@vancouveraa.ca
SUMMARY:Communications Committee: 12 STEP WORKSHOP
DESCRIPTION:Click Image for Printable Poster.
URL:https://vancouveraa.ca/event/communications-committee-12-step-workshop/
LOCATION:GVIS Central Office\, 3457 Kingsway\, Vancouver\, BC\, V5R 5L5\, Canada
CATEGORIES:Comm. Tel
ATTACH;FMTTYPE=image/png:https://vancouveraa.ca/wp-content/uploads/2025/10/20251101-Telephone-Twelve-Step-Sheet-Workshop-e1759800569855.png
ORGANIZER;CN="GVIS":MAILTO:staff@vancouveraa.ca
GEO:49.23222;-123.0307049
X-APPLE-STRUCTURED-LOCATION;VALUE=URI;X-ADDRESS=GVIS Central Office 3457 Kingsway Vancouver BC V5R 5L5 Canada;X-APPLE-RADIUS=500;X-TITLE=3457 Kingsway:geo:-123.0307049,49.23222
END:VEVENT
BEGIN:VEVENT
DTSTART;TZID=America/Vancouver:20251122T140000
DTEND;TZID=America/Vancouver:20251122T160000
DTSTAMP:20260424T024601
CREATED:20250929T214907Z
LAST-MODIFIED:20250929T214907Z
UID:10002056-1763820000-1763827200@vancouveraa.ca
SUMMARY:District 36: Workshop: What is District?
DESCRIPTION:Click Image to Print Poster
URL:https://vancouveraa.ca/event/district-36-workshop-what-is-district/
LOCATION:Park House\, 5400 River Rd\, Richmond\, British Columbia\, V7C 1A1\, Canada
CATEGORIES:Area 79 Cat.,DC Workshops
ATTACH;FMTTYPE=image/png:https://vancouveraa.ca/wp-content/uploads/2025/09/20251122-D36-Workshop-What-is-District-e1759181898262.png
GEO:49.17319;-123.16579
X-APPLE-STRUCTURED-LOCATION;VALUE=URI;X-ADDRESS=Park House 5400 River Rd Richmond British Columbia V7C 1A1 Canada;X-APPLE-RADIUS=500;X-TITLE=5400 River Rd:geo:-123.16579,49.17319
END:VEVENT
BEGIN:VEVENT
DTSTART;TZID=America/Vancouver:20251128T184500
DTEND;TZID=America/Vancouver:20251128T213000
DTSTAMP:20260424T024601
CREATED:20251104T003711Z
LAST-MODIFIED:20251104T003851Z
UID:10002064-1764355500-1764365400@vancouveraa.ca
SUMMARY:KEEP IT SIMPLE: 16th Year Anniversary and Christmas Potluck
DESCRIPTION:
URL:https://vancouveraa.ca/event/20251128-keep-it-simple/
LOCATION:1175 Broughton St\, Vancouver\, 1175 Broughton St\, Vancouver
CATEGORIES:Anniversary,Event,Holiday Party
ATTACH;FMTTYPE=image/png:https://vancouveraa.ca/wp-content/uploads/2025/11/20251128-Keep-it-Simple.png
GEO:49.2840373;-123.1362573
X-APPLE-STRUCTURED-LOCATION;VALUE=URI;X-ADDRESS=1175 Broughton St Vancouver 1175 Broughton St Vancouver;X-APPLE-RADIUS=500;X-TITLE=1175 Broughton St:geo:-123.1362573,49.2840373
END:VEVENT
BEGIN:VEVENT
DTSTART;TZID=America/Vancouver:20251129T100000
DTEND;TZID=America/Vancouver:20251129T230000
DTSTAMP:20260424T024601
CREATED:20251108T005333Z
LAST-MODIFIED:20251108T005444Z
UID:10002066-1764410400-1764457200@vancouveraa.ca
SUMMARY:RU New Westminster...Warmth in Fellowship
DESCRIPTION:
URL:https://vancouveraa.ca/event/ru-new-westminster-warmth-in-fellowship/
LOCATION:Sapperton Pensioners Hall\, 318 Keary Street\, New Westminister\, BC\, V3L 3L3\, Canada
CATEGORIES:Event,Roundups
ATTACH;FMTTYPE=image/png:https://vancouveraa.ca/wp-content/uploads/2025/11/20251129-RU-New-West.png
GEO:49.2252436;-122.8939725
X-APPLE-STRUCTURED-LOCATION;VALUE=URI;X-ADDRESS=Sapperton Pensioners Hall 318 Keary Street New Westminister BC V3L 3L3 Canada;X-APPLE-RADIUS=500;X-TITLE=318 Keary Street:geo:-122.8939725,49.2252436
END:VEVENT
END:VCALENDAR