BEGIN:VCALENDAR
VERSION:2.0
PRODID:-//Greater Vancouver Intergroup Society AA - ECPv6.15.20//NONSGML v1.0//EN
CALSCALE:GREGORIAN
METHOD:PUBLISH
X-ORIGINAL-URL:https://vancouveraa.ca
X-WR-CALDESC:Events for Greater Vancouver Intergroup Society AA
REFRESH-INTERVAL;VALUE=DURATION:PT1H
X-Robots-Tag:noindex
X-PUBLISHED-TTL:PT1H
BEGIN:VTIMEZONE
TZID:America/Vancouver
BEGIN:DAYLIGHT
TZOFFSETFROM:-0800
TZOFFSETTO:-0700
TZNAME:PDT
DTSTART:20250309T100000
END:DAYLIGHT
BEGIN:STANDARD
TZOFFSETFROM:-0700
TZOFFSETTO:-0800
TZNAME:PST
DTSTART:20251102T090000
END:STANDARD
BEGIN:DAYLIGHT
TZOFFSETFROM:-0800
TZOFFSETTO:-0700
TZNAME:PDT
DTSTART:20260308T100000
END:DAYLIGHT
BEGIN:STANDARD
TZOFFSETFROM:-0700
TZOFFSETTO:-0800
TZNAME:PST
DTSTART:20261101T090000
END:STANDARD
BEGIN:DAYLIGHT
TZOFFSETFROM:-0800
TZOFFSETTO:-0700
TZNAME:PDT
DTSTART:20270314T100000
END:DAYLIGHT
BEGIN:STANDARD
TZOFFSETFROM:-0700
TZOFFSETTO:-0800
TZNAME:PST
DTSTART:20271107T090000
END:STANDARD
END:VTIMEZONE
BEGIN:VEVENT
DTSTART;TZID=America/Vancouver:20260519T193000
DTEND;TZID=America/Vancouver:20260519T213000
DTSTAMP:20260423T140648
CREATED:20260104T020331Z
LAST-MODIFIED:20260104T020331Z
UID:10002088-1779219000-1779226200@vancouveraa.ca
SUMMARY:Intergroup Committee Monthly Mtg
DESCRIPTION:
URL:https://vancouveraa.ca/event/intergroup-committee-monthly-mtg/2026-05-19/
LOCATION:GVIS Central Office\, 3457 Kingsway\, Vancouver\, BC\, V5R 5L5\, Canada
CATEGORIES:IG
ATTACH;FMTTYPE=image/png:https://vancouveraa.ca/wp-content/uploads/2026/01/2026-Intergroup-Monthly-Meeting.png
ORGANIZER;CN="Greater Vancouver Intergroup":MAILTO:staff@vancouveraa.ca
GEO:49.23222;-123.0307049
X-APPLE-STRUCTURED-LOCATION;VALUE=URI;X-ADDRESS=GVIS Central Office 3457 Kingsway Vancouver BC V5R 5L5 Canada;X-APPLE-RADIUS=500;X-TITLE=3457 Kingsway:geo:-123.0307049,49.23222
END:VEVENT
END:VCALENDAR