BEGIN:VCALENDAR
VERSION:2.0
PRODID:-//Greater Vancouver Intergroup Society AA - ECPv6.15.20//NONSGML v1.0//EN
CALSCALE:GREGORIAN
METHOD:PUBLISH
X-WR-CALNAME:Greater Vancouver Intergroup Society AA
X-ORIGINAL-URL:https://vancouveraa.ca
X-WR-CALDESC:Events for Greater Vancouver Intergroup Society AA
REFRESH-INTERVAL;VALUE=DURATION:PT1H
X-Robots-Tag:noindex
X-PUBLISHED-TTL:PT1H
BEGIN:VTIMEZONE
TZID:America/Vancouver
BEGIN:DAYLIGHT
TZOFFSETFROM:-0800
TZOFFSETTO:-0700
TZNAME:PDT
DTSTART:20250309T100000
END:DAYLIGHT
BEGIN:STANDARD
TZOFFSETFROM:-0700
TZOFFSETTO:-0800
TZNAME:PST
DTSTART:20251102T090000
END:STANDARD
BEGIN:DAYLIGHT
TZOFFSETFROM:-0800
TZOFFSETTO:-0700
TZNAME:PDT
DTSTART:20260308T100000
END:DAYLIGHT
BEGIN:STANDARD
TZOFFSETFROM:-0700
TZOFFSETTO:-0800
TZNAME:PST
DTSTART:20261101T090000
END:STANDARD
BEGIN:DAYLIGHT
TZOFFSETFROM:-0800
TZOFFSETTO:-0700
TZNAME:PDT
DTSTART:20270314T100000
END:DAYLIGHT
BEGIN:STANDARD
TZOFFSETFROM:-0700
TZOFFSETTO:-0800
TZNAME:PST
DTSTART:20271107T090000
END:STANDARD
END:VTIMEZONE
BEGIN:VEVENT
DTSTART;TZID=America/Vancouver:20260309T200000
DTEND;TZID=America/Vancouver:20260309T213000
DTSTAMP:20260423T151349
CREATED:20260205T172003Z
LAST-MODIFIED:20260205T172003Z
UID:10002108-1773086400-1773091800@vancouveraa.ca
SUMMARY:BAY GROUP: MONDAY 8PM SPEAKER MEETING
DESCRIPTION:Click here for printable poster
URL:https://vancouveraa.ca/event/bay-group-monday-8pm-speaker-meeting/2026-03-09/
LOCATION:Vancouver Recovery Club\, 2775 Sophia Street\, Vancouver\, V5T 3L1
CATEGORIES:Event,Event Misc.
ATTACH;FMTTYPE=image/png:https://vancouveraa.ca/wp-content/uploads/2026/02/202602-BAY-GRP-SPEAKERS-FI.png
GEO:49.2605641;-123.0984775
X-APPLE-STRUCTURED-LOCATION;VALUE=URI;X-ADDRESS=Vancouver Recovery Club 2775 Sophia Street Vancouver V5T 3L1;X-APPLE-RADIUS=500;X-TITLE=2775 Sophia Street:geo:-123.0984775,49.2605641
END:VEVENT
BEGIN:VEVENT
DTSTART;TZID=America/Vancouver:20260314T100000
DTEND;TZID=America/Vancouver:20260314T220000
DTSTAMP:20260423T151349
CREATED:20260203T181617Z
LAST-MODIFIED:20260203T182954Z
UID:10002102-1773482400-1773525600@vancouveraa.ca
SUMMARY:A.A. Burnaby Roundup: 47th Annual!
DESCRIPTION:Click here for printable poster \n🎟️Tickets for sale at Central Office\, 3457 Kingsway\, Vancouver.
URL:https://vancouveraa.ca/event/aa-burnaby-ru-2026/
LOCATION:Operating Engineers Hall\, 4333 Ledger Street\, Burnaby\, British Columbia\, V5G 3T3\, Canada
CATEGORIES:Event
ATTACH;FMTTYPE=image/png:https://vancouveraa.ca/wp-content/uploads/2026/02/20260314-RU-BURNABYFI.png
GEO:49.2456139;-122.9723504
X-APPLE-STRUCTURED-LOCATION;VALUE=URI;X-ADDRESS=Operating Engineers Hall 4333 Ledger Street Burnaby British Columbia V5G 3T3 Canada;X-APPLE-RADIUS=500;X-TITLE=4333 Ledger Street:geo:-122.9723504,49.2456139
END:VEVENT
END:VCALENDAR