BEGIN:VCALENDAR
VERSION:2.0
PRODID:-//Greater Vancouver Intergroup Society AA - ECPv6.15.20//NONSGML v1.0//EN
CALSCALE:GREGORIAN
METHOD:PUBLISH
X-WR-CALNAME:Greater Vancouver Intergroup Society AA
X-ORIGINAL-URL:https://vancouveraa.ca
X-WR-CALDESC:Events for Greater Vancouver Intergroup Society AA
REFRESH-INTERVAL;VALUE=DURATION:PT1H
X-Robots-Tag:noindex
X-PUBLISHED-TTL:PT1H
BEGIN:VTIMEZONE
TZID:America/Vancouver
BEGIN:DAYLIGHT
TZOFFSETFROM:-0800
TZOFFSETTO:-0700
TZNAME:PDT
DTSTART:20240310T100000
END:DAYLIGHT
BEGIN:STANDARD
TZOFFSETFROM:-0700
TZOFFSETTO:-0800
TZNAME:PST
DTSTART:20241103T090000
END:STANDARD
BEGIN:DAYLIGHT
TZOFFSETFROM:-0800
TZOFFSETTO:-0700
TZNAME:PDT
DTSTART:20250309T100000
END:DAYLIGHT
BEGIN:STANDARD
TZOFFSETFROM:-0700
TZOFFSETTO:-0800
TZNAME:PST
DTSTART:20251102T090000
END:STANDARD
BEGIN:DAYLIGHT
TZOFFSETFROM:-0800
TZOFFSETTO:-0700
TZNAME:PDT
DTSTART:20260308T100000
END:DAYLIGHT
BEGIN:STANDARD
TZOFFSETFROM:-0700
TZOFFSETTO:-0800
TZNAME:PST
DTSTART:20261101T090000
END:STANDARD
END:VTIMEZONE
BEGIN:VEVENT
DTSTART;VALUE=DATE:20251010
DTEND;VALUE=DATE:20251012
DTSTAMP:20260424T084208
CREATED:20250521T201232Z
LAST-MODIFIED:20250521T201232Z
UID:10002035-1760054400-1760227199@vancouveraa.ca
SUMMARY:Vancouver Roundup
DESCRIPTION:Click here for poster.
URL:https://vancouveraa.ca/event/vancouver-roundup-2/
LOCATION:Hyatt Regency\, 655 Burrard Street\, Vancouver\, BC\, V6C 2R7\, Canada
CATEGORIES:Roundups
ATTACH;FMTTYPE=image/jpeg:https://vancouveraa.ca/wp-content/uploads/2025/05/Van-ROUNDUP-2025-FI-e1747858078745.jpg
GEO:49.2853144;-123.1207419
X-APPLE-STRUCTURED-LOCATION;VALUE=URI;X-ADDRESS=Hyatt Regency 655 Burrard Street Vancouver BC V6C 2R7 Canada;X-APPLE-RADIUS=500;X-TITLE=655 Burrard Street:geo:-123.1207419,49.2853144
END:VEVENT
BEGIN:VEVENT
DTSTART;VALUE=DATE:20251010
DTEND;VALUE=DATE:20251013
DTSTAMP:20260424T084208
CREATED:20250708T193509Z
LAST-MODIFIED:20251007T020048Z
UID:10002046-1760054400-1760313599@vancouveraa.ca
SUMMARY:Rose City Girl Stock 2025
DESCRIPTION:Click here for poster.
URL:https://vancouveraa.ca/event/rose-city-girl-stock-2025/
LOCATION:Holiday Inn Hotel\, 1110 Howe Street\, Vancouver\, British Columbia\, V6Z1R2\, Canada
CATEGORIES:Roundups
GEO:49.2784331;-123.1256285
X-APPLE-STRUCTURED-LOCATION;VALUE=URI;X-ADDRESS=Holiday Inn Hotel 1110 Howe Street Vancouver British Columbia V6Z1R2 Canada;X-APPLE-RADIUS=500;X-TITLE=1110 Howe Street:geo:-123.1256285,49.2784331
END:VEVENT
END:VCALENDAR