BEGIN:VCALENDAR
VERSION:2.0
PRODID:-//Greater Vancouver Intergroup Society AA - ECPv6.15.20//NONSGML v1.0//EN
CALSCALE:GREGORIAN
METHOD:PUBLISH
X-WR-CALNAME:Greater Vancouver Intergroup Society AA
X-ORIGINAL-URL:https://vancouveraa.ca
X-WR-CALDESC:Events for Greater Vancouver Intergroup Society AA
REFRESH-INTERVAL;VALUE=DURATION:PT1H
X-Robots-Tag:noindex
X-PUBLISHED-TTL:PT1H
BEGIN:VTIMEZONE
TZID:America/Vancouver
BEGIN:DAYLIGHT
TZOFFSETFROM:-0800
TZOFFSETTO:-0700
TZNAME:PDT
DTSTART:20240310T100000
END:DAYLIGHT
BEGIN:STANDARD
TZOFFSETFROM:-0700
TZOFFSETTO:-0800
TZNAME:PST
DTSTART:20241103T090000
END:STANDARD
BEGIN:DAYLIGHT
TZOFFSETFROM:-0800
TZOFFSETTO:-0700
TZNAME:PDT
DTSTART:20250309T100000
END:DAYLIGHT
BEGIN:STANDARD
TZOFFSETFROM:-0700
TZOFFSETTO:-0800
TZNAME:PST
DTSTART:20251102T090000
END:STANDARD
BEGIN:DAYLIGHT
TZOFFSETFROM:-0800
TZOFFSETTO:-0700
TZNAME:PDT
DTSTART:20260308T100000
END:DAYLIGHT
BEGIN:STANDARD
TZOFFSETFROM:-0700
TZOFFSETTO:-0800
TZNAME:PST
DTSTART:20261101T090000
END:STANDARD
END:VTIMEZONE
BEGIN:VEVENT
DTSTART;TZID=America/Vancouver:20250917T190000
DTEND;TZID=America/Vancouver:20250917T190000
DTSTAMP:20260424T021406
CREATED:20250907T191802Z
LAST-MODIFIED:20250907T191821Z
UID:10002055-1758135600-1758135600@vancouveraa.ca
SUMMARY:Book Study: Starts Wed.\, Sept. 17\, Plain Language Big Book
DESCRIPTION:
URL:https://vancouveraa.ca/event/book-study-starts-wed-sept-17-plain-language-big-book/
LOCATION:North Shore Alano Club\, 176 E. 2nd St.\, North Vancouver\, BC\, V7L 1C3\, Canada
CATEGORIES:Event Misc.
ATTACH;FMTTYPE=image/png:https://vancouveraa.ca/wp-content/uploads/2025/09/2025-Plain-Language-Mtg-NS-Alano-e1757272550793.png
GEO:49.3123667;-123.0764561
X-APPLE-STRUCTURED-LOCATION;VALUE=URI;X-ADDRESS=North Shore Alano Club 176 E. 2nd St. North Vancouver BC V7L 1C3 Canada;X-APPLE-RADIUS=500;X-TITLE=176 E. 2nd St.:geo:-123.0764561,49.3123667
END:VEVENT
BEGIN:VEVENT
DTSTART;TZID=America/Vancouver:20250919T150000
DTEND;TZID=America/Vancouver:20250921T120000
DTSTAMP:20260424T021406
CREATED:20250707T221117Z
LAST-MODIFIED:20250707T221117Z
UID:10002045-1758294000-1758456000@vancouveraa.ca
SUMMARY:Live Easy But Think First Rally
DESCRIPTION:Click here for poster.
URL:https://vancouveraa.ca/event/live-easy-but-think-first-rally/
LOCATION:4102 Hollywood Street\, Port Alberni\, BC\, 4102 Hollywood Street\, Port Alberni\, BC\, V9Y 7M1\, Canada
CATEGORIES:Roundups
ATTACH;FMTTYPE=image/png:https://vancouveraa.ca/wp-content/uploads/2025/07/Port-Alberni-Rally-2025-FI-e1751926259817.png
GEO:49.2576033;-124.7953623
X-APPLE-STRUCTURED-LOCATION;VALUE=URI;X-ADDRESS=4102 Hollywood Street Port Alberni BC 4102 Hollywood Street Port Alberni BC V9Y 7M1 Canada;X-APPLE-RADIUS=500;X-TITLE=4102 Hollywood Street:geo:-124.7953623,49.2576033
END:VEVENT
END:VCALENDAR