BEGIN:VCALENDAR
VERSION:2.0
PRODID:-//Greater Vancouver Intergroup Society AA - ECPv6.15.20//NONSGML v1.0//EN
CALSCALE:GREGORIAN
METHOD:PUBLISH
X-WR-CALNAME:Greater Vancouver Intergroup Society AA
X-ORIGINAL-URL:https://vancouveraa.ca
X-WR-CALDESC:Events for Greater Vancouver Intergroup Society AA
REFRESH-INTERVAL;VALUE=DURATION:PT1H
X-Robots-Tag:noindex
X-PUBLISHED-TTL:PT1H
BEGIN:VTIMEZONE
TZID:America/Vancouver
BEGIN:DAYLIGHT
TZOFFSETFROM:-0800
TZOFFSETTO:-0700
TZNAME:PDT
DTSTART:20250309T100000
END:DAYLIGHT
BEGIN:STANDARD
TZOFFSETFROM:-0700
TZOFFSETTO:-0800
TZNAME:PST
DTSTART:20251102T090000
END:STANDARD
BEGIN:DAYLIGHT
TZOFFSETFROM:-0800
TZOFFSETTO:-0700
TZNAME:PDT
DTSTART:20260308T100000
END:DAYLIGHT
BEGIN:STANDARD
TZOFFSETFROM:-0700
TZOFFSETTO:-0800
TZNAME:PST
DTSTART:20261101T090000
END:STANDARD
BEGIN:DAYLIGHT
TZOFFSETFROM:-0800
TZOFFSETTO:-0700
TZNAME:PDT
DTSTART:20270314T100000
END:DAYLIGHT
BEGIN:STANDARD
TZOFFSETFROM:-0700
TZOFFSETTO:-0800
TZNAME:PST
DTSTART:20271107T090000
END:STANDARD
END:VTIMEZONE
BEGIN:VEVENT
DTSTART;TZID=America/Vancouver:20260515T160000
DTEND;TZID=America/Vancouver:20260517T140000
DTSTAMP:20260423T105231
CREATED:20260221T232618Z
LAST-MODIFIED:20260221T232618Z
UID:10002161-1778860800-1779026400@vancouveraa.ca
SUMMARY:Kamloops 78th Annual Roundup: Acceptance Is The Key
DESCRIPTION:  \nClick here for the PDF version of the poster
URL:https://vancouveraa.ca/event/kamloops-78th-annual-roundup-acceptance-is-the-key/
LOCATION:Heffley Creek Hall\, 6995 Old Highway 5\, Kamloops\, BC\, V2H 0B5\, Canada
CATEGORIES:Event,Roundups
ATTACH;FMTTYPE=image/png:https://vancouveraa.ca/wp-content/uploads/2026/02/20260515-RU-KAMLOOPS.png
GEO:50.8588585;-120.2680496
X-APPLE-STRUCTURED-LOCATION;VALUE=URI;X-ADDRESS=Heffley Creek Hall 6995 Old Highway 5 Kamloops BC V2H 0B5 Canada;X-APPLE-RADIUS=500;X-TITLE=6995 Old Highway 5:geo:-120.2680496,50.8588585
END:VEVENT
BEGIN:VEVENT
DTSTART;TZID=America/Vancouver:20260530T120000
DTEND;TZID=America/Vancouver:20260530T230000
DTSTAMP:20260423T105231
CREATED:20260309T205545Z
LAST-MODIFIED:20260309T205545Z
UID:10002220-1780142400-1780182000@vancouveraa.ca
SUMMARY:Growing In Sobriety 38th Annual Tri-Cities Spring Rally
DESCRIPTION:Click here for poster.
URL:https://vancouveraa.ca/event/growing-in-sobriety-38th-annual-tri-cities-spring-rally/
LOCATION:All Saints Parish\, 821 Fairfax St.\, Coquitlam\, BC\, V3J 5K7\, Canada
CATEGORIES:Roundups
ATTACH;FMTTYPE=image/png:https://vancouveraa.ca/wp-content/uploads/2026/03/Tri-cities-rally-20226-FI-e1773089477584.png
GEO:49.2641911;-122.8546703
X-APPLE-STRUCTURED-LOCATION;VALUE=URI;X-ADDRESS=All Saints Parish 821 Fairfax St. Coquitlam BC V3J 5K7 Canada;X-APPLE-RADIUS=500;X-TITLE=821 Fairfax St.:geo:-122.8546703,49.2641911
END:VEVENT
BEGIN:VEVENT
DTSTART;VALUE=DATE:20260605
DTEND;VALUE=DATE:20260607
DTSTAMP:20260423T105231
CREATED:20260413T204134Z
LAST-MODIFIED:20260413T204134Z
UID:10002224-1780617600-1780790399@vancouveraa.ca
SUMMARY:53rd Annual Vernon Roundup
DESCRIPTION:Click here for poster.
URL:https://vancouveraa.ca/event/53rd-annual-vernon-roundup/
LOCATION:Trinity United Church\, 3300 Alexis Park Drive\, Vernon\, BC\, Canada
CATEGORIES:Roundups
ATTACH;FMTTYPE=image/png:https://vancouveraa.ca/wp-content/uploads/2026/04/Vernon-Round-up-2027-002-FI-e1776112693930.png
GEO:50.2663841;-119.2865976
X-APPLE-STRUCTURED-LOCATION;VALUE=URI;X-ADDRESS=Trinity United Church 3300 Alexis Park Drive Vernon BC Canada;X-APPLE-RADIUS=500;X-TITLE=3300 Alexis Park Drive:geo:-119.2865976,50.2663841
END:VEVENT
END:VCALENDAR