BEGIN:VCALENDAR
VERSION:2.0
PRODID:-//Greater Vancouver Intergroup Society AA - ECPv6.15.20//NONSGML v1.0//EN
CALSCALE:GREGORIAN
METHOD:PUBLISH
X-WR-CALNAME:Greater Vancouver Intergroup Society AA
X-ORIGINAL-URL:https://vancouveraa.ca
X-WR-CALDESC:Events for Greater Vancouver Intergroup Society AA
REFRESH-INTERVAL;VALUE=DURATION:PT1H
X-Robots-Tag:noindex
X-PUBLISHED-TTL:PT1H
BEGIN:VTIMEZONE
TZID:America/Vancouver
BEGIN:DAYLIGHT
TZOFFSETFROM:-0800
TZOFFSETTO:-0700
TZNAME:PDT
DTSTART:20250309T100000
END:DAYLIGHT
BEGIN:STANDARD
TZOFFSETFROM:-0700
TZOFFSETTO:-0800
TZNAME:PST
DTSTART:20251102T090000
END:STANDARD
BEGIN:DAYLIGHT
TZOFFSETFROM:-0800
TZOFFSETTO:-0700
TZNAME:PDT
DTSTART:20260308T100000
END:DAYLIGHT
BEGIN:STANDARD
TZOFFSETFROM:-0700
TZOFFSETTO:-0800
TZNAME:PST
DTSTART:20261101T090000
END:STANDARD
BEGIN:DAYLIGHT
TZOFFSETFROM:-0800
TZOFFSETTO:-0700
TZNAME:PDT
DTSTART:20270314T100000
END:DAYLIGHT
BEGIN:STANDARD
TZOFFSETFROM:-0700
TZOFFSETTO:-0800
TZNAME:PST
DTSTART:20271107T090000
END:STANDARD
BEGIN:DAYLIGHT
TZOFFSETFROM:-0800
TZOFFSETTO:-0700
TZNAME:PDT
DTSTART:20280312T100000
END:DAYLIGHT
BEGIN:STANDARD
TZOFFSETFROM:-0700
TZOFFSETTO:-0800
TZNAME:PST
DTSTART:20281105T090000
END:STANDARD
END:VTIMEZONE
BEGIN:VEVENT
DTSTART;TZID=America/Vancouver:20260615T200000
DTEND;TZID=America/Vancouver:20260615T213000
DTSTAMP:20260423T103250
CREATED:20260205T172003Z
LAST-MODIFIED:20260205T172003Z
UID:10002122-1781553600-1781559000@vancouveraa.ca
SUMMARY:BAY GROUP: MONDAY 8PM SPEAKER MEETING
DESCRIPTION:Click here for printable poster
URL:https://vancouveraa.ca/event/bay-group-monday-8pm-speaker-meeting/2026-06-15/
LOCATION:Vancouver Recovery Club\, 2775 Sophia Street\, Vancouver\, V5T 3L1
CATEGORIES:Event,Event Misc.
ATTACH;FMTTYPE=image/png:https://vancouveraa.ca/wp-content/uploads/2026/02/202602-BAY-GRP-SPEAKERS-FI.png
GEO:49.2605641;-123.0984775
X-APPLE-STRUCTURED-LOCATION;VALUE=URI;X-ADDRESS=Vancouver Recovery Club 2775 Sophia Street Vancouver V5T 3L1;X-APPLE-RADIUS=500;X-TITLE=2775 Sophia Street:geo:-123.0984775,49.2605641
END:VEVENT
BEGIN:VEVENT
DTSTART;TZID=America/Vancouver:20260622T200000
DTEND;TZID=America/Vancouver:20260622T213000
DTSTAMP:20260423T103250
CREATED:20260205T172003Z
LAST-MODIFIED:20260205T172003Z
UID:10002123-1782158400-1782163800@vancouveraa.ca
SUMMARY:BAY GROUP: MONDAY 8PM SPEAKER MEETING
DESCRIPTION:Click here for printable poster
URL:https://vancouveraa.ca/event/bay-group-monday-8pm-speaker-meeting/2026-06-22/
LOCATION:Vancouver Recovery Club\, 2775 Sophia Street\, Vancouver\, V5T 3L1
CATEGORIES:Event,Event Misc.
ATTACH;FMTTYPE=image/png:https://vancouveraa.ca/wp-content/uploads/2026/02/202602-BAY-GRP-SPEAKERS-FI.png
GEO:49.2605641;-123.0984775
X-APPLE-STRUCTURED-LOCATION;VALUE=URI;X-ADDRESS=Vancouver Recovery Club 2775 Sophia Street Vancouver V5T 3L1;X-APPLE-RADIUS=500;X-TITLE=2775 Sophia Street:geo:-123.0984775,49.2605641
END:VEVENT
BEGIN:VEVENT
DTSTART;TZID=America/Vancouver:20260629T200000
DTEND;TZID=America/Vancouver:20260629T213000
DTSTAMP:20260423T103250
CREATED:20260205T172003Z
LAST-MODIFIED:20260205T172003Z
UID:10002124-1782763200-1782768600@vancouveraa.ca
SUMMARY:BAY GROUP: MONDAY 8PM SPEAKER MEETING
DESCRIPTION:Click here for printable poster
URL:https://vancouveraa.ca/event/bay-group-monday-8pm-speaker-meeting/2026-06-29/
LOCATION:Vancouver Recovery Club\, 2775 Sophia Street\, Vancouver\, V5T 3L1
CATEGORIES:Event,Event Misc.
ATTACH;FMTTYPE=image/png:https://vancouveraa.ca/wp-content/uploads/2026/02/202602-BAY-GRP-SPEAKERS-FI.png
GEO:49.2605641;-123.0984775
X-APPLE-STRUCTURED-LOCATION;VALUE=URI;X-ADDRESS=Vancouver Recovery Club 2775 Sophia Street Vancouver V5T 3L1;X-APPLE-RADIUS=500;X-TITLE=2775 Sophia Street:geo:-123.0984775,49.2605641
END:VEVENT
BEGIN:VEVENT
DTSTART;TZID=America/Vancouver:20260706T200000
DTEND;TZID=America/Vancouver:20260706T213000
DTSTAMP:20260423T103250
CREATED:20260205T172003Z
LAST-MODIFIED:20260205T172003Z
UID:10002125-1783368000-1783373400@vancouveraa.ca
SUMMARY:BAY GROUP: MONDAY 8PM SPEAKER MEETING
DESCRIPTION:Click here for printable poster
URL:https://vancouveraa.ca/event/bay-group-monday-8pm-speaker-meeting/2026-07-06/
LOCATION:Vancouver Recovery Club\, 2775 Sophia Street\, Vancouver\, V5T 3L1
CATEGORIES:Event,Event Misc.
ATTACH;FMTTYPE=image/png:https://vancouveraa.ca/wp-content/uploads/2026/02/202602-BAY-GRP-SPEAKERS-FI.png
GEO:49.2605641;-123.0984775
X-APPLE-STRUCTURED-LOCATION;VALUE=URI;X-ADDRESS=Vancouver Recovery Club 2775 Sophia Street Vancouver V5T 3L1;X-APPLE-RADIUS=500;X-TITLE=2775 Sophia Street:geo:-123.0984775,49.2605641
END:VEVENT
BEGIN:VEVENT
DTSTART;TZID=America/Vancouver:20260713T200000
DTEND;TZID=America/Vancouver:20260713T213000
DTSTAMP:20260423T103250
CREATED:20260205T172003Z
LAST-MODIFIED:20260205T172003Z
UID:10002126-1783972800-1783978200@vancouveraa.ca
SUMMARY:BAY GROUP: MONDAY 8PM SPEAKER MEETING
DESCRIPTION:Click here for printable poster
URL:https://vancouveraa.ca/event/bay-group-monday-8pm-speaker-meeting/2026-07-13/
LOCATION:Vancouver Recovery Club\, 2775 Sophia Street\, Vancouver\, V5T 3L1
CATEGORIES:Event,Event Misc.
ATTACH;FMTTYPE=image/png:https://vancouveraa.ca/wp-content/uploads/2026/02/202602-BAY-GRP-SPEAKERS-FI.png
GEO:49.2605641;-123.0984775
X-APPLE-STRUCTURED-LOCATION;VALUE=URI;X-ADDRESS=Vancouver Recovery Club 2775 Sophia Street Vancouver V5T 3L1;X-APPLE-RADIUS=500;X-TITLE=2775 Sophia Street:geo:-123.0984775,49.2605641
END:VEVENT
BEGIN:VEVENT
DTSTART;TZID=America/Vancouver:20260720T200000
DTEND;TZID=America/Vancouver:20260720T213000
DTSTAMP:20260423T103250
CREATED:20260205T172003Z
LAST-MODIFIED:20260205T172003Z
UID:10002127-1784577600-1784583000@vancouveraa.ca
SUMMARY:BAY GROUP: MONDAY 8PM SPEAKER MEETING
DESCRIPTION:Click here for printable poster
URL:https://vancouveraa.ca/event/bay-group-monday-8pm-speaker-meeting/2026-07-20/
LOCATION:Vancouver Recovery Club\, 2775 Sophia Street\, Vancouver\, V5T 3L1
CATEGORIES:Event,Event Misc.
ATTACH;FMTTYPE=image/png:https://vancouveraa.ca/wp-content/uploads/2026/02/202602-BAY-GRP-SPEAKERS-FI.png
GEO:49.2605641;-123.0984775
X-APPLE-STRUCTURED-LOCATION;VALUE=URI;X-ADDRESS=Vancouver Recovery Club 2775 Sophia Street Vancouver V5T 3L1;X-APPLE-RADIUS=500;X-TITLE=2775 Sophia Street:geo:-123.0984775,49.2605641
END:VEVENT
BEGIN:VEVENT
DTSTART;TZID=America/Vancouver:20260727T200000
DTEND;TZID=America/Vancouver:20260727T213000
DTSTAMP:20260423T103250
CREATED:20260205T172003Z
LAST-MODIFIED:20260205T172003Z
UID:10002128-1785182400-1785187800@vancouveraa.ca
SUMMARY:BAY GROUP: MONDAY 8PM SPEAKER MEETING
DESCRIPTION:Click here for printable poster
URL:https://vancouveraa.ca/event/bay-group-monday-8pm-speaker-meeting/2026-07-27/
LOCATION:Vancouver Recovery Club\, 2775 Sophia Street\, Vancouver\, V5T 3L1
CATEGORIES:Event,Event Misc.
ATTACH;FMTTYPE=image/png:https://vancouveraa.ca/wp-content/uploads/2026/02/202602-BAY-GRP-SPEAKERS-FI.png
GEO:49.2605641;-123.0984775
X-APPLE-STRUCTURED-LOCATION;VALUE=URI;X-ADDRESS=Vancouver Recovery Club 2775 Sophia Street Vancouver V5T 3L1;X-APPLE-RADIUS=500;X-TITLE=2775 Sophia Street:geo:-123.0984775,49.2605641
END:VEVENT
BEGIN:VEVENT
DTSTART;TZID=America/Vancouver:20260803T200000
DTEND;TZID=America/Vancouver:20260803T213000
DTSTAMP:20260423T103250
CREATED:20260205T172003Z
LAST-MODIFIED:20260205T172003Z
UID:10002129-1785787200-1785792600@vancouveraa.ca
SUMMARY:BAY GROUP: MONDAY 8PM SPEAKER MEETING
DESCRIPTION:Click here for printable poster
URL:https://vancouveraa.ca/event/bay-group-monday-8pm-speaker-meeting/2026-08-03/
LOCATION:Vancouver Recovery Club\, 2775 Sophia Street\, Vancouver\, V5T 3L1
CATEGORIES:Event,Event Misc.
ATTACH;FMTTYPE=image/png:https://vancouveraa.ca/wp-content/uploads/2026/02/202602-BAY-GRP-SPEAKERS-FI.png
GEO:49.2605641;-123.0984775
X-APPLE-STRUCTURED-LOCATION;VALUE=URI;X-ADDRESS=Vancouver Recovery Club 2775 Sophia Street Vancouver V5T 3L1;X-APPLE-RADIUS=500;X-TITLE=2775 Sophia Street:geo:-123.0984775,49.2605641
END:VEVENT
BEGIN:VEVENT
DTSTART;TZID=America/Vancouver:20260810T200000
DTEND;TZID=America/Vancouver:20260810T213000
DTSTAMP:20260423T103250
CREATED:20260205T172003Z
LAST-MODIFIED:20260205T172003Z
UID:10002130-1786392000-1786397400@vancouveraa.ca
SUMMARY:BAY GROUP: MONDAY 8PM SPEAKER MEETING
DESCRIPTION:Click here for printable poster
URL:https://vancouveraa.ca/event/bay-group-monday-8pm-speaker-meeting/2026-08-10/
LOCATION:Vancouver Recovery Club\, 2775 Sophia Street\, Vancouver\, V5T 3L1
CATEGORIES:Event,Event Misc.
ATTACH;FMTTYPE=image/png:https://vancouveraa.ca/wp-content/uploads/2026/02/202602-BAY-GRP-SPEAKERS-FI.png
GEO:49.2605641;-123.0984775
X-APPLE-STRUCTURED-LOCATION;VALUE=URI;X-ADDRESS=Vancouver Recovery Club 2775 Sophia Street Vancouver V5T 3L1;X-APPLE-RADIUS=500;X-TITLE=2775 Sophia Street:geo:-123.0984775,49.2605641
END:VEVENT
BEGIN:VEVENT
DTSTART;TZID=America/Vancouver:20260817T200000
DTEND;TZID=America/Vancouver:20260817T213000
DTSTAMP:20260423T103250
CREATED:20260205T172003Z
LAST-MODIFIED:20260205T172003Z
UID:10002131-1786996800-1787002200@vancouveraa.ca
SUMMARY:BAY GROUP: MONDAY 8PM SPEAKER MEETING
DESCRIPTION:Click here for printable poster
URL:https://vancouveraa.ca/event/bay-group-monday-8pm-speaker-meeting/2026-08-17/
LOCATION:Vancouver Recovery Club\, 2775 Sophia Street\, Vancouver\, V5T 3L1
CATEGORIES:Event,Event Misc.
ATTACH;FMTTYPE=image/png:https://vancouveraa.ca/wp-content/uploads/2026/02/202602-BAY-GRP-SPEAKERS-FI.png
GEO:49.2605641;-123.0984775
X-APPLE-STRUCTURED-LOCATION;VALUE=URI;X-ADDRESS=Vancouver Recovery Club 2775 Sophia Street Vancouver V5T 3L1;X-APPLE-RADIUS=500;X-TITLE=2775 Sophia Street:geo:-123.0984775,49.2605641
END:VEVENT
BEGIN:VEVENT
DTSTART;TZID=America/Vancouver:20260824T200000
DTEND;TZID=America/Vancouver:20260824T213000
DTSTAMP:20260423T103250
CREATED:20260205T172003Z
LAST-MODIFIED:20260205T172003Z
UID:10002132-1787601600-1787607000@vancouveraa.ca
SUMMARY:BAY GROUP: MONDAY 8PM SPEAKER MEETING
DESCRIPTION:Click here for printable poster
URL:https://vancouveraa.ca/event/bay-group-monday-8pm-speaker-meeting/2026-08-24/
LOCATION:Vancouver Recovery Club\, 2775 Sophia Street\, Vancouver\, V5T 3L1
CATEGORIES:Event,Event Misc.
ATTACH;FMTTYPE=image/png:https://vancouveraa.ca/wp-content/uploads/2026/02/202602-BAY-GRP-SPEAKERS-FI.png
GEO:49.2605641;-123.0984775
X-APPLE-STRUCTURED-LOCATION;VALUE=URI;X-ADDRESS=Vancouver Recovery Club 2775 Sophia Street Vancouver V5T 3L1;X-APPLE-RADIUS=500;X-TITLE=2775 Sophia Street:geo:-123.0984775,49.2605641
END:VEVENT
BEGIN:VEVENT
DTSTART;TZID=America/Vancouver:20260831T200000
DTEND;TZID=America/Vancouver:20260831T213000
DTSTAMP:20260423T103250
CREATED:20260205T172003Z
LAST-MODIFIED:20260205T172003Z
UID:10002133-1788206400-1788211800@vancouveraa.ca
SUMMARY:BAY GROUP: MONDAY 8PM SPEAKER MEETING
DESCRIPTION:Click here for printable poster
URL:https://vancouveraa.ca/event/bay-group-monday-8pm-speaker-meeting/2026-08-31/
LOCATION:Vancouver Recovery Club\, 2775 Sophia Street\, Vancouver\, V5T 3L1
CATEGORIES:Event,Event Misc.
ATTACH;FMTTYPE=image/png:https://vancouveraa.ca/wp-content/uploads/2026/02/202602-BAY-GRP-SPEAKERS-FI.png
GEO:49.2605641;-123.0984775
X-APPLE-STRUCTURED-LOCATION;VALUE=URI;X-ADDRESS=Vancouver Recovery Club 2775 Sophia Street Vancouver V5T 3L1;X-APPLE-RADIUS=500;X-TITLE=2775 Sophia Street:geo:-123.0984775,49.2605641
END:VEVENT
BEGIN:VEVENT
DTSTART;TZID=America/Vancouver:20260907T200000
DTEND;TZID=America/Vancouver:20260907T213000
DTSTAMP:20260423T103250
CREATED:20260205T172003Z
LAST-MODIFIED:20260205T172003Z
UID:10002134-1788811200-1788816600@vancouveraa.ca
SUMMARY:BAY GROUP: MONDAY 8PM SPEAKER MEETING
DESCRIPTION:Click here for printable poster
URL:https://vancouveraa.ca/event/bay-group-monday-8pm-speaker-meeting/2026-09-07/
LOCATION:Vancouver Recovery Club\, 2775 Sophia Street\, Vancouver\, V5T 3L1
CATEGORIES:Event,Event Misc.
ATTACH;FMTTYPE=image/png:https://vancouveraa.ca/wp-content/uploads/2026/02/202602-BAY-GRP-SPEAKERS-FI.png
GEO:49.2605641;-123.0984775
X-APPLE-STRUCTURED-LOCATION;VALUE=URI;X-ADDRESS=Vancouver Recovery Club 2775 Sophia Street Vancouver V5T 3L1;X-APPLE-RADIUS=500;X-TITLE=2775 Sophia Street:geo:-123.0984775,49.2605641
END:VEVENT
BEGIN:VEVENT
DTSTART;TZID=America/Vancouver:20260914T200000
DTEND;TZID=America/Vancouver:20260914T213000
DTSTAMP:20260423T103250
CREATED:20260205T172003Z
LAST-MODIFIED:20260205T172003Z
UID:10002135-1789416000-1789421400@vancouveraa.ca
SUMMARY:BAY GROUP: MONDAY 8PM SPEAKER MEETING
DESCRIPTION:Click here for printable poster
URL:https://vancouveraa.ca/event/bay-group-monday-8pm-speaker-meeting/2026-09-14/
LOCATION:Vancouver Recovery Club\, 2775 Sophia Street\, Vancouver\, V5T 3L1
CATEGORIES:Event,Event Misc.
ATTACH;FMTTYPE=image/png:https://vancouveraa.ca/wp-content/uploads/2026/02/202602-BAY-GRP-SPEAKERS-FI.png
GEO:49.2605641;-123.0984775
X-APPLE-STRUCTURED-LOCATION;VALUE=URI;X-ADDRESS=Vancouver Recovery Club 2775 Sophia Street Vancouver V5T 3L1;X-APPLE-RADIUS=500;X-TITLE=2775 Sophia Street:geo:-123.0984775,49.2605641
END:VEVENT
BEGIN:VEVENT
DTSTART;TZID=America/Vancouver:20260921T200000
DTEND;TZID=America/Vancouver:20260921T213000
DTSTAMP:20260423T103250
CREATED:20260205T172003Z
LAST-MODIFIED:20260205T172003Z
UID:10002136-1790020800-1790026200@vancouveraa.ca
SUMMARY:BAY GROUP: MONDAY 8PM SPEAKER MEETING
DESCRIPTION:Click here for printable poster
URL:https://vancouveraa.ca/event/bay-group-monday-8pm-speaker-meeting/2026-09-21/
LOCATION:Vancouver Recovery Club\, 2775 Sophia Street\, Vancouver\, V5T 3L1
CATEGORIES:Event,Event Misc.
ATTACH;FMTTYPE=image/png:https://vancouveraa.ca/wp-content/uploads/2026/02/202602-BAY-GRP-SPEAKERS-FI.png
GEO:49.2605641;-123.0984775
X-APPLE-STRUCTURED-LOCATION;VALUE=URI;X-ADDRESS=Vancouver Recovery Club 2775 Sophia Street Vancouver V5T 3L1;X-APPLE-RADIUS=500;X-TITLE=2775 Sophia Street:geo:-123.0984775,49.2605641
END:VEVENT
BEGIN:VEVENT
DTSTART;TZID=America/Vancouver:20260928T200000
DTEND;TZID=America/Vancouver:20260928T213000
DTSTAMP:20260423T103250
CREATED:20260205T172003Z
LAST-MODIFIED:20260205T172003Z
UID:10002137-1790625600-1790631000@vancouveraa.ca
SUMMARY:BAY GROUP: MONDAY 8PM SPEAKER MEETING
DESCRIPTION:Click here for printable poster
URL:https://vancouveraa.ca/event/bay-group-monday-8pm-speaker-meeting/2026-09-28/
LOCATION:Vancouver Recovery Club\, 2775 Sophia Street\, Vancouver\, V5T 3L1
CATEGORIES:Event,Event Misc.
ATTACH;FMTTYPE=image/png:https://vancouveraa.ca/wp-content/uploads/2026/02/202602-BAY-GRP-SPEAKERS-FI.png
GEO:49.2605641;-123.0984775
X-APPLE-STRUCTURED-LOCATION;VALUE=URI;X-ADDRESS=Vancouver Recovery Club 2775 Sophia Street Vancouver V5T 3L1;X-APPLE-RADIUS=500;X-TITLE=2775 Sophia Street:geo:-123.0984775,49.2605641
END:VEVENT
BEGIN:VEVENT
DTSTART;TZID=America/Vancouver:20261005T200000
DTEND;TZID=America/Vancouver:20261005T213000
DTSTAMP:20260423T103250
CREATED:20260205T172003Z
LAST-MODIFIED:20260205T172003Z
UID:10002138-1791230400-1791235800@vancouveraa.ca
SUMMARY:BAY GROUP: MONDAY 8PM SPEAKER MEETING
DESCRIPTION:Click here for printable poster
URL:https://vancouveraa.ca/event/bay-group-monday-8pm-speaker-meeting/2026-10-05/
LOCATION:Vancouver Recovery Club\, 2775 Sophia Street\, Vancouver\, V5T 3L1
CATEGORIES:Event,Event Misc.
ATTACH;FMTTYPE=image/png:https://vancouveraa.ca/wp-content/uploads/2026/02/202602-BAY-GRP-SPEAKERS-FI.png
GEO:49.2605641;-123.0984775
X-APPLE-STRUCTURED-LOCATION;VALUE=URI;X-ADDRESS=Vancouver Recovery Club 2775 Sophia Street Vancouver V5T 3L1;X-APPLE-RADIUS=500;X-TITLE=2775 Sophia Street:geo:-123.0984775,49.2605641
END:VEVENT
BEGIN:VEVENT
DTSTART;TZID=America/Vancouver:20261012T200000
DTEND;TZID=America/Vancouver:20261012T213000
DTSTAMP:20260423T103250
CREATED:20260205T172003Z
LAST-MODIFIED:20260205T172003Z
UID:10002139-1791835200-1791840600@vancouveraa.ca
SUMMARY:BAY GROUP: MONDAY 8PM SPEAKER MEETING
DESCRIPTION:Click here for printable poster
URL:https://vancouveraa.ca/event/bay-group-monday-8pm-speaker-meeting/2026-10-12/
LOCATION:Vancouver Recovery Club\, 2775 Sophia Street\, Vancouver\, V5T 3L1
CATEGORIES:Event,Event Misc.
ATTACH;FMTTYPE=image/png:https://vancouveraa.ca/wp-content/uploads/2026/02/202602-BAY-GRP-SPEAKERS-FI.png
GEO:49.2605641;-123.0984775
X-APPLE-STRUCTURED-LOCATION;VALUE=URI;X-ADDRESS=Vancouver Recovery Club 2775 Sophia Street Vancouver V5T 3L1;X-APPLE-RADIUS=500;X-TITLE=2775 Sophia Street:geo:-123.0984775,49.2605641
END:VEVENT
BEGIN:VEVENT
DTSTART;TZID=America/Vancouver:20261019T200000
DTEND;TZID=America/Vancouver:20261019T213000
DTSTAMP:20260423T103250
CREATED:20260205T172003Z
LAST-MODIFIED:20260205T172003Z
UID:10002140-1792440000-1792445400@vancouveraa.ca
SUMMARY:BAY GROUP: MONDAY 8PM SPEAKER MEETING
DESCRIPTION:Click here for printable poster
URL:https://vancouveraa.ca/event/bay-group-monday-8pm-speaker-meeting/2026-10-19/
LOCATION:Vancouver Recovery Club\, 2775 Sophia Street\, Vancouver\, V5T 3L1
CATEGORIES:Event,Event Misc.
ATTACH;FMTTYPE=image/png:https://vancouveraa.ca/wp-content/uploads/2026/02/202602-BAY-GRP-SPEAKERS-FI.png
GEO:49.2605641;-123.0984775
X-APPLE-STRUCTURED-LOCATION;VALUE=URI;X-ADDRESS=Vancouver Recovery Club 2775 Sophia Street Vancouver V5T 3L1;X-APPLE-RADIUS=500;X-TITLE=2775 Sophia Street:geo:-123.0984775,49.2605641
END:VEVENT
BEGIN:VEVENT
DTSTART;TZID=America/Vancouver:20261026T200000
DTEND;TZID=America/Vancouver:20261026T213000
DTSTAMP:20260423T103250
CREATED:20260205T172003Z
LAST-MODIFIED:20260205T172003Z
UID:10002141-1793044800-1793050200@vancouveraa.ca
SUMMARY:BAY GROUP: MONDAY 8PM SPEAKER MEETING
DESCRIPTION:Click here for printable poster
URL:https://vancouveraa.ca/event/bay-group-monday-8pm-speaker-meeting/2026-10-26/
LOCATION:Vancouver Recovery Club\, 2775 Sophia Street\, Vancouver\, V5T 3L1
CATEGORIES:Event,Event Misc.
ATTACH;FMTTYPE=image/png:https://vancouveraa.ca/wp-content/uploads/2026/02/202602-BAY-GRP-SPEAKERS-FI.png
GEO:49.2605641;-123.0984775
X-APPLE-STRUCTURED-LOCATION;VALUE=URI;X-ADDRESS=Vancouver Recovery Club 2775 Sophia Street Vancouver V5T 3L1;X-APPLE-RADIUS=500;X-TITLE=2775 Sophia Street:geo:-123.0984775,49.2605641
END:VEVENT
BEGIN:VEVENT
DTSTART;TZID=America/Vancouver:20261102T200000
DTEND;TZID=America/Vancouver:20261102T213000
DTSTAMP:20260423T103250
CREATED:20260205T172003Z
LAST-MODIFIED:20260205T172003Z
UID:10002142-1793649600-1793655000@vancouveraa.ca
SUMMARY:BAY GROUP: MONDAY 8PM SPEAKER MEETING
DESCRIPTION:Click here for printable poster
URL:https://vancouveraa.ca/event/bay-group-monday-8pm-speaker-meeting/2026-11-02/
LOCATION:Vancouver Recovery Club\, 2775 Sophia Street\, Vancouver\, V5T 3L1
CATEGORIES:Event,Event Misc.
ATTACH;FMTTYPE=image/png:https://vancouveraa.ca/wp-content/uploads/2026/02/202602-BAY-GRP-SPEAKERS-FI.png
GEO:49.2605641;-123.0984775
X-APPLE-STRUCTURED-LOCATION;VALUE=URI;X-ADDRESS=Vancouver Recovery Club 2775 Sophia Street Vancouver V5T 3L1;X-APPLE-RADIUS=500;X-TITLE=2775 Sophia Street:geo:-123.0984775,49.2605641
END:VEVENT
BEGIN:VEVENT
DTSTART;TZID=America/Vancouver:20261109T200000
DTEND;TZID=America/Vancouver:20261109T213000
DTSTAMP:20260423T103250
CREATED:20260205T172003Z
LAST-MODIFIED:20260205T172003Z
UID:10002143-1794254400-1794259800@vancouveraa.ca
SUMMARY:BAY GROUP: MONDAY 8PM SPEAKER MEETING
DESCRIPTION:Click here for printable poster
URL:https://vancouveraa.ca/event/bay-group-monday-8pm-speaker-meeting/2026-11-09/
LOCATION:Vancouver Recovery Club\, 2775 Sophia Street\, Vancouver\, V5T 3L1
CATEGORIES:Event,Event Misc.
ATTACH;FMTTYPE=image/png:https://vancouveraa.ca/wp-content/uploads/2026/02/202602-BAY-GRP-SPEAKERS-FI.png
GEO:49.2605641;-123.0984775
X-APPLE-STRUCTURED-LOCATION;VALUE=URI;X-ADDRESS=Vancouver Recovery Club 2775 Sophia Street Vancouver V5T 3L1;X-APPLE-RADIUS=500;X-TITLE=2775 Sophia Street:geo:-123.0984775,49.2605641
END:VEVENT
BEGIN:VEVENT
DTSTART;TZID=America/Vancouver:20261116T200000
DTEND;TZID=America/Vancouver:20261116T213000
DTSTAMP:20260423T103250
CREATED:20260205T172003Z
LAST-MODIFIED:20260205T172003Z
UID:10002144-1794859200-1794864600@vancouveraa.ca
SUMMARY:BAY GROUP: MONDAY 8PM SPEAKER MEETING
DESCRIPTION:Click here for printable poster
URL:https://vancouveraa.ca/event/bay-group-monday-8pm-speaker-meeting/2026-11-16/
LOCATION:Vancouver Recovery Club\, 2775 Sophia Street\, Vancouver\, V5T 3L1
CATEGORIES:Event,Event Misc.
ATTACH;FMTTYPE=image/png:https://vancouveraa.ca/wp-content/uploads/2026/02/202602-BAY-GRP-SPEAKERS-FI.png
GEO:49.2605641;-123.0984775
X-APPLE-STRUCTURED-LOCATION;VALUE=URI;X-ADDRESS=Vancouver Recovery Club 2775 Sophia Street Vancouver V5T 3L1;X-APPLE-RADIUS=500;X-TITLE=2775 Sophia Street:geo:-123.0984775,49.2605641
END:VEVENT
BEGIN:VEVENT
DTSTART;TZID=America/Vancouver:20261123T200000
DTEND;TZID=America/Vancouver:20261123T213000
DTSTAMP:20260423T103250
CREATED:20260205T172003Z
LAST-MODIFIED:20260205T172003Z
UID:10002145-1795464000-1795469400@vancouveraa.ca
SUMMARY:BAY GROUP: MONDAY 8PM SPEAKER MEETING
DESCRIPTION:Click here for printable poster
URL:https://vancouveraa.ca/event/bay-group-monday-8pm-speaker-meeting/2026-11-23/
LOCATION:Vancouver Recovery Club\, 2775 Sophia Street\, Vancouver\, V5T 3L1
CATEGORIES:Event,Event Misc.
ATTACH;FMTTYPE=image/png:https://vancouveraa.ca/wp-content/uploads/2026/02/202602-BAY-GRP-SPEAKERS-FI.png
GEO:49.2605641;-123.0984775
X-APPLE-STRUCTURED-LOCATION;VALUE=URI;X-ADDRESS=Vancouver Recovery Club 2775 Sophia Street Vancouver V5T 3L1;X-APPLE-RADIUS=500;X-TITLE=2775 Sophia Street:geo:-123.0984775,49.2605641
END:VEVENT
BEGIN:VEVENT
DTSTART;TZID=America/Vancouver:20261130T200000
DTEND;TZID=America/Vancouver:20261130T213000
DTSTAMP:20260423T103250
CREATED:20260205T172003Z
LAST-MODIFIED:20260205T172003Z
UID:10002146-1796068800-1796074200@vancouveraa.ca
SUMMARY:BAY GROUP: MONDAY 8PM SPEAKER MEETING
DESCRIPTION:Click here for printable poster
URL:https://vancouveraa.ca/event/bay-group-monday-8pm-speaker-meeting/2026-11-30/
LOCATION:Vancouver Recovery Club\, 2775 Sophia Street\, Vancouver\, V5T 3L1
CATEGORIES:Event,Event Misc.
ATTACH;FMTTYPE=image/png:https://vancouveraa.ca/wp-content/uploads/2026/02/202602-BAY-GRP-SPEAKERS-FI.png
GEO:49.2605641;-123.0984775
X-APPLE-STRUCTURED-LOCATION;VALUE=URI;X-ADDRESS=Vancouver Recovery Club 2775 Sophia Street Vancouver V5T 3L1;X-APPLE-RADIUS=500;X-TITLE=2775 Sophia Street:geo:-123.0984775,49.2605641
END:VEVENT
BEGIN:VEVENT
DTSTART;TZID=America/Vancouver:20261207T200000
DTEND;TZID=America/Vancouver:20261207T213000
DTSTAMP:20260423T103250
CREATED:20260205T172003Z
LAST-MODIFIED:20260205T172003Z
UID:10002147-1796673600-1796679000@vancouveraa.ca
SUMMARY:BAY GROUP: MONDAY 8PM SPEAKER MEETING
DESCRIPTION:Click here for printable poster
URL:https://vancouveraa.ca/event/bay-group-monday-8pm-speaker-meeting/2026-12-07/
LOCATION:Vancouver Recovery Club\, 2775 Sophia Street\, Vancouver\, V5T 3L1
CATEGORIES:Event,Event Misc.
ATTACH;FMTTYPE=image/png:https://vancouveraa.ca/wp-content/uploads/2026/02/202602-BAY-GRP-SPEAKERS-FI.png
GEO:49.2605641;-123.0984775
X-APPLE-STRUCTURED-LOCATION;VALUE=URI;X-ADDRESS=Vancouver Recovery Club 2775 Sophia Street Vancouver V5T 3L1;X-APPLE-RADIUS=500;X-TITLE=2775 Sophia Street:geo:-123.0984775,49.2605641
END:VEVENT
BEGIN:VEVENT
DTSTART;TZID=America/Vancouver:20261214T200000
DTEND;TZID=America/Vancouver:20261214T213000
DTSTAMP:20260423T103250
CREATED:20260205T172003Z
LAST-MODIFIED:20260205T172003Z
UID:10002148-1797278400-1797283800@vancouveraa.ca
SUMMARY:BAY GROUP: MONDAY 8PM SPEAKER MEETING
DESCRIPTION:Click here for printable poster
URL:https://vancouveraa.ca/event/bay-group-monday-8pm-speaker-meeting/2026-12-14/
LOCATION:Vancouver Recovery Club\, 2775 Sophia Street\, Vancouver\, V5T 3L1
CATEGORIES:Event,Event Misc.
ATTACH;FMTTYPE=image/png:https://vancouveraa.ca/wp-content/uploads/2026/02/202602-BAY-GRP-SPEAKERS-FI.png
GEO:49.2605641;-123.0984775
X-APPLE-STRUCTURED-LOCATION;VALUE=URI;X-ADDRESS=Vancouver Recovery Club 2775 Sophia Street Vancouver V5T 3L1;X-APPLE-RADIUS=500;X-TITLE=2775 Sophia Street:geo:-123.0984775,49.2605641
END:VEVENT
BEGIN:VEVENT
DTSTART;TZID=America/Vancouver:20261221T200000
DTEND;TZID=America/Vancouver:20261221T213000
DTSTAMP:20260423T103250
CREATED:20260205T172003Z
LAST-MODIFIED:20260205T172003Z
UID:10002149-1797883200-1797888600@vancouveraa.ca
SUMMARY:BAY GROUP: MONDAY 8PM SPEAKER MEETING
DESCRIPTION:Click here for printable poster
URL:https://vancouveraa.ca/event/bay-group-monday-8pm-speaker-meeting/2026-12-21/
LOCATION:Vancouver Recovery Club\, 2775 Sophia Street\, Vancouver\, V5T 3L1
CATEGORIES:Event,Event Misc.
ATTACH;FMTTYPE=image/png:https://vancouveraa.ca/wp-content/uploads/2026/02/202602-BAY-GRP-SPEAKERS-FI.png
GEO:49.2605641;-123.0984775
X-APPLE-STRUCTURED-LOCATION;VALUE=URI;X-ADDRESS=Vancouver Recovery Club 2775 Sophia Street Vancouver V5T 3L1;X-APPLE-RADIUS=500;X-TITLE=2775 Sophia Street:geo:-123.0984775,49.2605641
END:VEVENT
BEGIN:VEVENT
DTSTART;TZID=America/Vancouver:20261228T200000
DTEND;TZID=America/Vancouver:20261228T213000
DTSTAMP:20260423T103250
CREATED:20260205T172003Z
LAST-MODIFIED:20260205T172003Z
UID:10002150-1798488000-1798493400@vancouveraa.ca
SUMMARY:BAY GROUP: MONDAY 8PM SPEAKER MEETING
DESCRIPTION:Click here for printable poster
URL:https://vancouveraa.ca/event/bay-group-monday-8pm-speaker-meeting/2026-12-28/
LOCATION:Vancouver Recovery Club\, 2775 Sophia Street\, Vancouver\, V5T 3L1
CATEGORIES:Event,Event Misc.
ATTACH;FMTTYPE=image/png:https://vancouveraa.ca/wp-content/uploads/2026/02/202602-BAY-GRP-SPEAKERS-FI.png
GEO:49.2605641;-123.0984775
X-APPLE-STRUCTURED-LOCATION;VALUE=URI;X-ADDRESS=Vancouver Recovery Club 2775 Sophia Street Vancouver V5T 3L1;X-APPLE-RADIUS=500;X-TITLE=2775 Sophia Street:geo:-123.0984775,49.2605641
END:VEVENT
BEGIN:VEVENT
DTSTART;TZID=America/Vancouver:20270104T200000
DTEND;TZID=America/Vancouver:20270104T213000
DTSTAMP:20260423T103250
CREATED:20260205T172003Z
LAST-MODIFIED:20260205T172003Z
UID:10002151-1799092800-1799098200@vancouveraa.ca
SUMMARY:BAY GROUP: MONDAY 8PM SPEAKER MEETING
DESCRIPTION:Click here for printable poster
URL:https://vancouveraa.ca/event/bay-group-monday-8pm-speaker-meeting/2027-01-04/
LOCATION:Vancouver Recovery Club\, 2775 Sophia Street\, Vancouver\, V5T 3L1
CATEGORIES:Event,Event Misc.
ATTACH;FMTTYPE=image/png:https://vancouveraa.ca/wp-content/uploads/2026/02/202602-BAY-GRP-SPEAKERS-FI.png
GEO:49.2605641;-123.0984775
X-APPLE-STRUCTURED-LOCATION;VALUE=URI;X-ADDRESS=Vancouver Recovery Club 2775 Sophia Street Vancouver V5T 3L1;X-APPLE-RADIUS=500;X-TITLE=2775 Sophia Street:geo:-123.0984775,49.2605641
END:VEVENT
END:VCALENDAR