BEGIN:VCALENDAR
VERSION:2.0
PRODID:-//Greater Vancouver Intergroup Society AA - ECPv6.15.20//NONSGML v1.0//EN
CALSCALE:GREGORIAN
METHOD:PUBLISH
X-ORIGINAL-URL:https://vancouveraa.ca
X-WR-CALDESC:Events for Greater Vancouver Intergroup Society AA
REFRESH-INTERVAL;VALUE=DURATION:PT1H
X-Robots-Tag:noindex
X-PUBLISHED-TTL:PT1H
BEGIN:VTIMEZONE
TZID:America/Vancouver
BEGIN:DAYLIGHT
TZOFFSETFROM:-0800
TZOFFSETTO:-0700
TZNAME:PDT
DTSTART:20240310T100000
END:DAYLIGHT
BEGIN:STANDARD
TZOFFSETFROM:-0700
TZOFFSETTO:-0800
TZNAME:PST
DTSTART:20241103T090000
END:STANDARD
BEGIN:DAYLIGHT
TZOFFSETFROM:-0800
TZOFFSETTO:-0700
TZNAME:PDT
DTSTART:20250309T100000
END:DAYLIGHT
BEGIN:STANDARD
TZOFFSETFROM:-0700
TZOFFSETTO:-0800
TZNAME:PST
DTSTART:20251102T090000
END:STANDARD
BEGIN:DAYLIGHT
TZOFFSETFROM:-0800
TZOFFSETTO:-0700
TZNAME:PDT
DTSTART:20260308T100000
END:DAYLIGHT
BEGIN:STANDARD
TZOFFSETFROM:-0700
TZOFFSETTO:-0800
TZNAME:PST
DTSTART:20261101T090000
END:STANDARD
END:VTIMEZONE
BEGIN:VEVENT
DTSTART;TZID=America/Vancouver:20250201T190000
DTEND;TZID=America/Vancouver:20250201T200000
DTSTAMP:20260423T120556
CREATED:20250219T010119Z
LAST-MODIFIED:20250219T011120Z
UID:10002014-1738436400-1738440000@vancouveraa.ca
SUMMARY:Unity Speaker Meeting
DESCRIPTION:
URL:https://vancouveraa.ca/event/unity-speaker-meeting-february-2025/2025-02-01/
LOCATION:BC
CATEGORIES:Event Misc.
ATTACH;FMTTYPE=image/png:https://vancouveraa.ca/wp-content/uploads/2025/02/2025-February-Unity-Speaker-AA-Speakers-e1739926777825.png
END:VEVENT
BEGIN:VEVENT
DTSTART;TZID=America/Vancouver:20250208T180000
DTEND;TZID=America/Vancouver:20250208T210000
DTSTAMP:20260423T120556
CREATED:20250121T013846Z
LAST-MODIFIED:20250121T013846Z
UID:10002005-1739037600-1739048400@vancouveraa.ca
SUMMARY:2025 Bridging The Gap Workshop
DESCRIPTION:
URL:https://vancouveraa.ca/event/2025-bridging-the-gap-workshop/
LOCATION:1575 west 7th avenue\, 1575 W 7th avenue\, Vancouver\, British Columbia\, Canada
CATEGORIES:Event,IG
ATTACH;FMTTYPE=image/jpeg:https://vancouveraa.ca/wp-content/uploads/2025/01/2025-BTG-WORKSHOP-e1737423451889.jpg
GEO:49.2655367;-123.1404064
X-APPLE-STRUCTURED-LOCATION;VALUE=URI;X-ADDRESS=1575 west 7th avenue 1575 W 7th avenue Vancouver British Columbia Canada;X-APPLE-RADIUS=500;X-TITLE=1575 W 7th avenue:geo:-123.1404064,49.2655367
END:VEVENT
BEGIN:VEVENT
DTSTART;TZID=America/Vancouver:20250208T190000
DTEND;TZID=America/Vancouver:20250208T200000
DTSTAMP:20260423T120556
CREATED:20250219T010119Z
LAST-MODIFIED:20250219T011120Z
UID:10002015-1739041200-1739044800@vancouveraa.ca
SUMMARY:Unity Speaker Meeting
DESCRIPTION:
URL:https://vancouveraa.ca/event/unity-speaker-meeting-february-2025/2025-02-08/
LOCATION:BC
CATEGORIES:Event Misc.
ATTACH;FMTTYPE=image/png:https://vancouveraa.ca/wp-content/uploads/2025/02/2025-February-Unity-Speaker-AA-Speakers-e1739926777825.png
END:VEVENT
BEGIN:VEVENT
DTSTART;TZID=America/Vancouver:20250209T140000
DTEND;TZID=America/Vancouver:20250209T160000
DTSTAMP:20260423T120556
CREATED:20250118T000320Z
LAST-MODIFIED:20250118T000320Z
UID:10002004-1739109600-1739116800@vancouveraa.ca
SUMMARY:District 41 Safety in AA Workshop
DESCRIPTION:
URL:https://vancouveraa.ca/event/district-41-safety-in-aa-workshop/
LOCATION:maple ridge library\, 22470 Dewdney Trunk Rd\, Maple Ridge\, Canada
CATEGORIES:DC Workshops,Event
ATTACH;FMTTYPE=image/png:https://vancouveraa.ca/wp-content/uploads/2025/01/2025-District-41-Safety-in-AA-Workshop-e1737158304665.png
GEO:49.2197708;-122.5998727
X-APPLE-STRUCTURED-LOCATION;VALUE=URI;X-ADDRESS=maple ridge library 22470 Dewdney Trunk Rd Maple Ridge Canada;X-APPLE-RADIUS=500;X-TITLE=22470 Dewdney Trunk Rd:geo:-122.5998727,49.2197708
END:VEVENT
BEGIN:VEVENT
DTSTART;TZID=America/Vancouver:20250215T100000
DTEND;TZID=America/Vancouver:20250215T170000
DTSTAMP:20260423T120556
CREATED:20250122T011513Z
LAST-MODIFIED:20250122T011513Z
UID:10002006-1739613600-1739638800@vancouveraa.ca
SUMMARY:38th Annual Heart to Heart
DESCRIPTION:
URL:https://vancouveraa.ca/event/38th-annual-heart-to-heart/
LOCATION:Fleetwood Community Centre\, 15996 84th Ave\, Surrey\, British Columbia\, V4N 0W1\, Canada
CATEGORIES:Event,Event Misc.
ATTACH;FMTTYPE=image/jpeg:https://vancouveraa.ca/wp-content/uploads/2025/01/2025-HEART-TO-HEART--e1737508489466.jpg
GEO:49.1552212;-122.7798117
X-APPLE-STRUCTURED-LOCATION;VALUE=URI;X-ADDRESS=Fleetwood Community Centre 15996 84th Ave Surrey British Columbia V4N 0W1 Canada;X-APPLE-RADIUS=500;X-TITLE=15996 84th Ave:geo:-122.7798117,49.1552212
END:VEVENT
BEGIN:VEVENT
DTSTART;TZID=America/Vancouver:20250215T190000
DTEND;TZID=America/Vancouver:20250215T200000
DTSTAMP:20260423T120556
CREATED:20250219T010119Z
LAST-MODIFIED:20250219T011120Z
UID:10002016-1739646000-1739649600@vancouveraa.ca
SUMMARY:Unity Speaker Meeting
DESCRIPTION:
URL:https://vancouveraa.ca/event/unity-speaker-meeting-february-2025/2025-02-15/
LOCATION:BC
CATEGORIES:Event Misc.
ATTACH;FMTTYPE=image/png:https://vancouveraa.ca/wp-content/uploads/2025/02/2025-February-Unity-Speaker-AA-Speakers-e1739926777825.png
END:VEVENT
BEGIN:VEVENT
DTSTART;TZID=America/Vancouver:20250215T203000
DTEND;TZID=America/Vancouver:20250215T230000
DTSTAMP:20260423T120556
CREATED:20250123T010507Z
LAST-MODIFIED:20250123T234228Z
UID:10002007-1739651400-1739660400@vancouveraa.ca
SUMMARY:2025 Page 13 Anniversary Party
DESCRIPTION:
URL:https://vancouveraa.ca/event/2025-page-13-anniversary-party/
LOCATION:Peace Church\, 659 52nd Ave E\, Vancouver\, British Columbia\, Canada
CATEGORIES:Anniversary,Event
ATTACH;FMTTYPE=image/jpeg:https://vancouveraa.ca/wp-content/uploads/2025/01/2025-Page-13-Anniversary-Party-1-e1737594285428.jpg
GEO:49.2229449;-123.0917669
X-APPLE-STRUCTURED-LOCATION;VALUE=URI;X-ADDRESS=Peace Church 659 52nd Ave E Vancouver British Columbia Canada;X-APPLE-RADIUS=500;X-TITLE=659 52nd Ave E:geo:-123.0917669,49.2229449
END:VEVENT
BEGIN:VEVENT
DTSTART;TZID=America/Vancouver:20250222T190000
DTEND;TZID=America/Vancouver:20250222T200000
DTSTAMP:20260423T120556
CREATED:20250219T010119Z
LAST-MODIFIED:20250219T011120Z
UID:10002017-1740250800-1740254400@vancouveraa.ca
SUMMARY:Unity Speaker Meeting
DESCRIPTION:
URL:https://vancouveraa.ca/event/unity-speaker-meeting-february-2025/2025-02-22/
LOCATION:BC
CATEGORIES:Event Misc.
ATTACH;FMTTYPE=image/png:https://vancouveraa.ca/wp-content/uploads/2025/02/2025-February-Unity-Speaker-AA-Speakers-e1739926777825.png
END:VEVENT
BEGIN:VEVENT
DTSTART;TZID=America/Vancouver:20250301T103000
DTEND;TZID=America/Vancouver:20250301T160000
DTSTAMP:20260423T120556
CREATED:20250129T234905Z
LAST-MODIFIED:20250130T000301Z
UID:10002009-1740825000-1740844800@vancouveraa.ca
SUMMARY:2025 Spring Women's Day
DESCRIPTION:
URL:https://vancouveraa.ca/event/2025-spring-womens-day/
LOCATION:North Shore Alano Club\, 176 E. 2nd St.\, North Vancouver\, BC\, V7L 1C3\, Canada
CATEGORIES:Event,Event Misc.,Roundups
ATTACH;FMTTYPE=image/png:https://vancouveraa.ca/wp-content/uploads/2018/04/2025-Spring-Womens-Day-e1738195290874.png
GEO:49.3123667;-123.0764561
X-APPLE-STRUCTURED-LOCATION;VALUE=URI;X-ADDRESS=North Shore Alano Club 176 E. 2nd St. North Vancouver BC V7L 1C3 Canada;X-APPLE-RADIUS=500;X-TITLE=176 E. 2nd St.:geo:-123.0764561,49.3123667
END:VEVENT
BEGIN:VEVENT
DTSTART;TZID=America/Vancouver:20250307T000000
DTEND;TZID=America/Vancouver:20250309T000000
DTSTAMP:20260423T120556
CREATED:20240913T235055Z
LAST-MODIFIED:20240913T235527Z
UID:10001974-1741305600-1741478400@vancouveraa.ca
SUMMARY:Thailand Roundup
DESCRIPTION:
URL:https://vancouveraa.ca/event/thailand-roundup/
LOCATION:Royal Cliff Resort\, Pattaya Thailand\, 353 Phra Tamnak\, Pattaya\, Thailand
CATEGORIES:Roundups
GEO:12.9188967;100.868522
X-APPLE-STRUCTURED-LOCATION;VALUE=URI;X-ADDRESS=Royal Cliff Resort Pattaya Thailand 353 Phra Tamnak Pattaya Thailand;X-APPLE-RADIUS=500;X-TITLE=353 Phra Tamnak:geo:100.868522,12.9188967
END:VEVENT
BEGIN:VEVENT
DTSTART;TZID=America/Vancouver:20250308T100000
DTEND;TZID=America/Vancouver:20250308T233000
DTSTAMP:20260423T120556
CREATED:20250213T192055Z
LAST-MODIFIED:20250227T181451Z
UID:10002011-1741428000-1741476600@vancouveraa.ca
SUMMARY:Burnaby Roundup 46th: "A Vision For You"
DESCRIPTION:Click the here or the image for the poster.
URL:https://vancouveraa.ca/event/burnaby-roundup-46th-2025/
LOCATION:Operating Engineers Hall\, 4333 Ledger Street\, Burnaby\, British Columbia\, V5G 3T3\, Canada
CATEGORIES:Event
ATTACH;FMTTYPE=image/png:https://vancouveraa.ca/wp-content/uploads/2025/02/2025-RU-BURNABY-e1739473558882.png
ORGANIZER;CN="RU Burnaby":MAILTO:burnabyroundup@gmail.com
GEO:49.2456139;-122.9723504
X-APPLE-STRUCTURED-LOCATION;VALUE=URI;X-ADDRESS=Operating Engineers Hall 4333 Ledger Street Burnaby British Columbia V5G 3T3 Canada;X-APPLE-RADIUS=500;X-TITLE=4333 Ledger Street:geo:-122.9723504,49.2456139
END:VEVENT
BEGIN:VEVENT
DTSTART;TZID=America/Vancouver:20250322T000000
DTEND;TZID=America/Vancouver:20250322T000000
DTSTAMP:20260423T120556
CREATED:20230515T211608Z
LAST-MODIFIED:20231206T004925Z
UID:10000273-1742601600-1742601600@vancouveraa.ca
SUMMARY:Cruising The Sea of Happy Destiny
DESCRIPTION:
URL:https://vancouveraa.ca/event/cruising-the-sea-of-happy-destiny/
LOCATION:PO BOX 754\, PO Box 754\, Lady Smith\, B.C.\, V9G 1A5\, Canada
CATEGORIES:Event Misc.
GEO:48.9939001;-123.8194387
X-APPLE-STRUCTURED-LOCATION;VALUE=URI;X-ADDRESS=PO BOX 754 PO Box 754 Lady Smith B.C. V9G 1A5 Canada;X-APPLE-RADIUS=500;X-TITLE=PO Box 754:geo:-123.8194387,48.9939001
END:VEVENT
BEGIN:VEVENT
DTSTART;TZID=America/Vancouver:20250322T090000
DTEND;TZID=America/Vancouver:20250322T173000
DTSTAMP:20260423T120556
CREATED:20250205T010509Z
LAST-MODIFIED:20250205T010509Z
UID:10002010-1742634000-1742664600@vancouveraa.ca
SUMMARY:2025 Fraser Valley Corrections Roundup
DESCRIPTION:
URL:https://vancouveraa.ca/event/2025-fraser-valley-corrections-roundup/
LOCATION:Level Ground Church\, 31216 King Rd.\, Abbotsford\, BC\, V2T 6C2\, Canada
CATEGORIES:Comm. Corrections,Event,Roundups
ATTACH;FMTTYPE=image/png:https://vancouveraa.ca/wp-content/uploads/2025/02/2025-Fraser-Valley-Corrections-Round-up-e1738717204988.png
GEO:49.0307456;-122.3595567
X-APPLE-STRUCTURED-LOCATION;VALUE=URI;X-ADDRESS=Level Ground Church 31216 King Rd. Abbotsford BC V2T 6C2 Canada;X-APPLE-RADIUS=500;X-TITLE=31216 King Rd.:geo:-122.3595567,49.0307456
END:VEVENT
BEGIN:VEVENT
DTSTART;TZID=America/Vancouver:20250405T120000
DTEND;TZID=America/Vancouver:20250405T230000
DTSTAMP:20260423T120556
CREATED:20250214T235116Z
LAST-MODIFIED:20250214T235116Z
UID:10002012-1743854400-1743894000@vancouveraa.ca
SUMMARY:37th Annual Tri City Spring Rally
DESCRIPTION:
URL:https://vancouveraa.ca/event/37th-annual-tri-city-spring-rally/
LOCATION:All Saints Parish\, 821 Fairfax St.\, Coquitlam\, BC\, V3J 5K7\, Canada
CATEGORIES:Event,Roundups
ATTACH;FMTTYPE=image/png:https://vancouveraa.ca/wp-content/uploads/2025/02/2025-Tri-City-Sring-Rally-e1739576854784.png
GEO:49.2641911;-122.8546703
X-APPLE-STRUCTURED-LOCATION;VALUE=URI;X-ADDRESS=All Saints Parish 821 Fairfax St. Coquitlam BC V3J 5K7 Canada;X-APPLE-RADIUS=500;X-TITLE=821 Fairfax St.:geo:-122.8546703,49.2641911
END:VEVENT
BEGIN:VEVENT
DTSTART;VALUE=DATE:20250418
DTEND;VALUE=DATE:20250421
DTSTAMP:20260423T120556
CREATED:20250123T232645Z
LAST-MODIFIED:20250123T232645Z
UID:10002008-1744934400-1745193599@vancouveraa.ca
SUMMARY:53rd Annual North Shore Round Up
DESCRIPTION:
URL:https://vancouveraa.ca/event/53rd-annual-north-shore-round-up/
LOCATION:Vancouver Convention Centre\, 999 Canada Pl.\, Vancouver\, BC\, V6C 3C1\, Canada
CATEGORIES:Event,Roundups
ATTACH;FMTTYPE=image/jpeg:https://vancouveraa.ca/wp-content/uploads/2025/01/2025-North-Shore-Round-Up-e1737674731913.jpg
GEO:49.2877204;-123.113231
X-APPLE-STRUCTURED-LOCATION;VALUE=URI;X-ADDRESS=Vancouver Convention Centre 999 Canada Pl. Vancouver BC V6C 3C1 Canada;X-APPLE-RADIUS=500;X-TITLE=999 Canada Pl.:geo:-123.113231,49.2877204
END:VEVENT
BEGIN:VEVENT
DTSTART;TZID=America/Vancouver:20250422T193000
DTEND;TZID=America/Vancouver:20250422T203000
DTSTAMP:20260423T120556
CREATED:20250409T000815Z
LAST-MODIFIED:20250409T000908Z
UID:10002019-1745350200-1745353800@vancouveraa.ca
SUMMARY:April Come To Believe Quarterly Speaker Meeting
DESCRIPTION:
URL:https://vancouveraa.ca/event/april-come-to-believe-quarterly-speaker-meeting/
LOCATION:7111 No 2 Road Richmond\, 7111 No 2 Road\, Richmond\, British Columbia\, Canada
CATEGORIES:Event
ATTACH;FMTTYPE=image/jpeg:https://vancouveraa.ca/wp-content/uploads/2025/04/042025-COME-TO-BELIEVE-Quarterly-Speaker-Meeting-e1744156094865.jpg
GEO:49.1616241;-123.1592315
X-APPLE-STRUCTURED-LOCATION;VALUE=URI;X-ADDRESS=7111 No 2 Road Richmond 7111 No 2 Road Richmond British Columbia Canada;X-APPLE-RADIUS=500;X-TITLE=7111 No 2 Road:geo:-123.1592315,49.1616241
END:VEVENT
BEGIN:VEVENT
DTSTART;VALUE=DATE:20250425
DTEND;VALUE=DATE:20250428
DTSTAMP:20260423T120556
CREATED:20250215T002630Z
LAST-MODIFIED:20250215T002630Z
UID:10002013-1745539200-1745798399@vancouveraa.ca
SUMMARY:75th Annual Victoria Miracle Rally
DESCRIPTION:
URL:https://vancouveraa.ca/event/75th-annual-victoria-miracle-rally/
LOCATION:Leonardo Da Vinci Centre\, 195 Bay St\, Victoria\, British Columbia\, V9A 3K4\, Canada
CATEGORIES:Event,Roundups
ATTACH;FMTTYPE=image/png:https://vancouveraa.ca/wp-content/uploads/2025/02/2025-75th-Victoria-Miracles-Rally-e1739578378211.png
GEO:48.4322313;-123.3825818
X-APPLE-STRUCTURED-LOCATION;VALUE=URI;X-ADDRESS=Leonardo Da Vinci Centre 195 Bay St Victoria British Columbia V9A 3K4 Canada;X-APPLE-RADIUS=500;X-TITLE=195 Bay St:geo:-123.3825818,48.4322313
END:VEVENT
BEGIN:VEVENT
DTSTART;VALUE=DATE:20250425
DTEND;VALUE=DATE:20250428
DTSTAMP:20260423T120556
CREATED:20250104T002551Z
LAST-MODIFIED:20250104T002551Z
UID:10002003-1745539200-1745798399@vancouveraa.ca
SUMMARY:8th Annual Northwest Girlstock
DESCRIPTION:
URL:https://vancouveraa.ca/event/8th-annual-northwest-girlstock/
LOCATION:Sheraton Hotel & Conference Centre\, 714 Lakeway Dr\, Bellingham\, WA\, WA\, United States
CATEGORIES:Event,Roundups
ATTACH;FMTTYPE=image/jpeg:https://vancouveraa.ca/wp-content/uploads/2025/01/202404-NORTHWEST-GIRLSTOCK-e1735950257375.jpg
GEO:48.7429738;-122.4661088
X-APPLE-STRUCTURED-LOCATION;VALUE=URI;X-ADDRESS=Sheraton Hotel & Conference Centre 714 Lakeway Dr Bellingham WA WA United States;X-APPLE-RADIUS=500;X-TITLE=714 Lakeway Dr:geo:-122.4661088,48.7429738
END:VEVENT
BEGIN:VEVENT
DTSTART;TZID=America/Vancouver:20250428T200000
DTEND;TZID=America/Vancouver:20250428T210000
DTSTAMP:20260423T120556
CREATED:20250422T222305Z
LAST-MODIFIED:20250422T222806Z
UID:10002021-1745870400-1745874000@vancouveraa.ca
SUMMARY:The Bay Group Last Call
DESCRIPTION:
URL:https://vancouveraa.ca/event/the-bay-group-last-call/
LOCATION:Vancouver Alano Club\, 1525 W. 7th Ave.\, Vancouver\, BC\, V6J 1S1\, Canada
CATEGORIES:Event,Event Misc.
ATTACH;FMTTYPE=image/png:https://vancouveraa.ca/wp-content/uploads/2025/04/2025-The-Bay-Group-Last-Call-e1745360536105.png
GEO:49.2655407;-123.1394858
X-APPLE-STRUCTURED-LOCATION;VALUE=URI;X-ADDRESS=Vancouver Alano Club 1525 W. 7th Ave. Vancouver BC V6J 1S1 Canada;X-APPLE-RADIUS=500;X-TITLE=1525 W. 7th Ave.:geo:-123.1394858,49.2655407
END:VEVENT
BEGIN:VEVENT
DTSTART;TZID=America/Vancouver:20250503T190000
DTEND;TZID=America/Vancouver:20250503T200000
DTSTAMP:20260423T120556
CREATED:20250422T230617Z
LAST-MODIFIED:20250422T230617Z
UID:10002022-1746298800-1746302400@vancouveraa.ca
SUMMARY:Unity Speaker Meeting
DESCRIPTION:
URL:https://vancouveraa.ca/event/unity-speaker-meeting-5/2025-05-03/
LOCATION:BC
CATEGORIES:Event
ATTACH;FMTTYPE=image/png:https://vancouveraa.ca/wp-content/uploads/2025/04/2025-May-Unity-Speaker-Meeting-e1745363116954.png
END:VEVENT
BEGIN:VEVENT
DTSTART;TZID=America/Vancouver:20250510T190000
DTEND;TZID=America/Vancouver:20250510T200000
DTSTAMP:20260423T120556
CREATED:20250422T230617Z
LAST-MODIFIED:20250422T230617Z
UID:10002023-1746903600-1746907200@vancouveraa.ca
SUMMARY:Unity Speaker Meeting
DESCRIPTION:
URL:https://vancouveraa.ca/event/unity-speaker-meeting-5/2025-05-10/
LOCATION:BC
CATEGORIES:Event
ATTACH;FMTTYPE=image/png:https://vancouveraa.ca/wp-content/uploads/2025/04/2025-May-Unity-Speaker-Meeting-e1745363116954.png
END:VEVENT
BEGIN:VEVENT
DTSTART;TZID=America/Vancouver:20250517T190000
DTEND;TZID=America/Vancouver:20250517T200000
DTSTAMP:20260423T120556
CREATED:20250422T230617Z
LAST-MODIFIED:20250422T230617Z
UID:10002024-1747508400-1747512000@vancouveraa.ca
SUMMARY:Unity Speaker Meeting
DESCRIPTION:
URL:https://vancouveraa.ca/event/unity-speaker-meeting-5/2025-05-17/
LOCATION:BC
CATEGORIES:Event
ATTACH;FMTTYPE=image/png:https://vancouveraa.ca/wp-content/uploads/2025/04/2025-May-Unity-Speaker-Meeting-e1745363116954.png
END:VEVENT
BEGIN:VEVENT
DTSTART;TZID=America/Vancouver:20250519T190000
DTEND;TZID=America/Vancouver:20250519T210000
DTSTAMP:20260423T120556
CREATED:20250516T225751Z
LAST-MODIFIED:20250516T225751Z
UID:10002033-1747681200-1747688400@vancouveraa.ca
SUMMARY:BAY GROUP 74 Year Anniversary!
DESCRIPTION:Click here for poster.
URL:https://vancouveraa.ca/event/bay-group-74-year-anniversary/
LOCATION:Vancouver Recovery Club\, 2775 Sophia Street\, Vancouver\, V5T 3L1
CATEGORIES:Anniversary
ATTACH;FMTTYPE=image/png:https://vancouveraa.ca/wp-content/uploads/2025/05/The-Bay-Group-Presents-FI-e1747436155193.png
GEO:49.2605641;-123.0984775
X-APPLE-STRUCTURED-LOCATION;VALUE=URI;X-ADDRESS=Vancouver Recovery Club 2775 Sophia Street Vancouver V5T 3L1;X-APPLE-RADIUS=500;X-TITLE=2775 Sophia Street:geo:-123.0984775,49.2605641
END:VEVENT
BEGIN:VEVENT
DTSTART;TZID=America/Vancouver:20250524T190000
DTEND;TZID=America/Vancouver:20250524T210000
DTSTAMP:20260423T120556
CREATED:20250422T230617Z
LAST-MODIFIED:20250422T230617Z
UID:10002025-1748113200-1748120400@vancouveraa.ca
SUMMARY:Unity Speaker Meeting
DESCRIPTION:
URL:https://vancouveraa.ca/event/unity-speaker-meeting-5/2025-05-24/
LOCATION:BC
CATEGORIES:Event
ATTACH;FMTTYPE=image/png:https://vancouveraa.ca/wp-content/uploads/2025/04/2025-May-Unity-Speaker-Meeting-e1745363116954.png
END:VEVENT
BEGIN:VEVENT
DTSTART;VALUE=DATE:20250530
DTEND;VALUE=DATE:20250602
DTSTAMP:20260423T120556
CREATED:20250506T232517Z
LAST-MODIFIED:20250506T232517Z
UID:10002029-1748563200-1748822399@vancouveraa.ca
SUMMARY:2025 Lytton AA Group Come Hell or High Water
DESCRIPTION:
URL:https://vancouveraa.ca/event/2025-lytton-aa-group-come-hell-or-high-water/
LOCATION:LFN Community Hall\, British Columbia\, Canada
CATEGORIES:Event,Roundups
ATTACH;FMTTYPE=image/png:https://vancouveraa.ca/wp-content/uploads/2025/05/2025-Lytton-AA-Group-Come-Hell-or-High-Water-e1746573472833.png
GEO:53.7266683;-127.6476206
END:VEVENT
BEGIN:VEVENT
DTSTART;TZID=America/Vancouver:20250531T190000
DTEND;TZID=America/Vancouver:20250531T200000
DTSTAMP:20260423T120556
CREATED:20250422T230617Z
LAST-MODIFIED:20250422T230617Z
UID:10002026-1748718000-1748721600@vancouveraa.ca
SUMMARY:Unity Speaker Meeting
DESCRIPTION:
URL:https://vancouveraa.ca/event/unity-speaker-meeting-5/2025-05-31/
LOCATION:BC
CATEGORIES:Event
ATTACH;FMTTYPE=image/png:https://vancouveraa.ca/wp-content/uploads/2025/04/2025-May-Unity-Speaker-Meeting-e1745363116954.png
END:VEVENT
BEGIN:VEVENT
DTSTART;TZID=America/Vancouver:20250608T130000
DTEND;TZID=America/Vancouver:20250608T160000
DTSTAMP:20260423T120556
CREATED:20250515T205938Z
LAST-MODIFIED:20250515T205938Z
UID:10002032-1749387600-1749398400@vancouveraa.ca
SUMMARY:2025 International Convention: Volunteer Training & Orientation
DESCRIPTION:Click here for poster.
URL:https://vancouveraa.ca/event/2025-international-convention-volunteer-training-orientation/
LOCATION:Vancouver Convention Centre\, 999 Canada Pl.\, Vancouver\, BC\, V6C 3C1\, Canada
CATEGORIES:Event
ATTACH;FMTTYPE=image/jpeg:https://vancouveraa.ca/wp-content/uploads/2025/05/June-8-Save-the-Date-_NEW_-English-1-e1747342663782.jpg
GEO:49.2877204;-123.113231
X-APPLE-STRUCTURED-LOCATION;VALUE=URI;X-ADDRESS=Vancouver Convention Centre 999 Canada Pl. Vancouver BC V6C 3C1 Canada;X-APPLE-RADIUS=500;X-TITLE=999 Canada Pl.:geo:-123.113231,49.2877204
END:VEVENT
BEGIN:VEVENT
DTSTART;VALUE=DATE:20250627
DTEND;VALUE=DATE:20250630
DTSTAMP:20260423T120556
CREATED:20250512T223323Z
LAST-MODIFIED:20250512T223546Z
UID:10002030-1750982400-1751241599@vancouveraa.ca
SUMMARY:Our Primary Purpose Is Primary Big Book Workshop
DESCRIPTION:
URL:https://vancouveraa.ca/event/our-primary-purpose-is-primary-big-book-workshop/
LOCATION:Croation Cultural Centre\, 3250 Commercial Drive\, Vancouver\, BC\, Canada
CATEGORIES:Event,Roundups
ATTACH;FMTTYPE=image/png:https://vancouveraa.ca/wp-content/uploads/2025/05/2025-Our-Primary-Purpose-is-Primary-Big-Book-Workshop-e1747089079446.png
GEO:49.2554699;-123.0683044
X-APPLE-STRUCTURED-LOCATION;VALUE=URI;X-ADDRESS=Croation Cultural Centre 3250 Commercial Drive Vancouver BC Canada;X-APPLE-RADIUS=500;X-TITLE=3250 Commercial Drive:geo:-123.0683044,49.2554699
END:VEVENT
BEGIN:VEVENT
DTSTART;TZID=America/Vancouver:20250630T195500
DTEND;TZID=America/Vancouver:20250630T212000
DTSTAMP:20260423T120556
CREATED:20250627T231812Z
LAST-MODIFIED:20250627T232021Z
UID:10002044-1751313300-1751318400@vancouveraa.ca
SUMMARY:BAY GRP: Speaker Meeting Bob D.
DESCRIPTION:Click here for PDF
URL:https://vancouveraa.ca/event/bay-grp-20250630/
LOCATION:Vancouver Recovery Club\, 2775 Sophia Street\, Vancouver\, V5T 3L1
CATEGORIES:Event,Event Misc.
ATTACH;FMTTYPE=image/png:https://vancouveraa.ca/wp-content/uploads/2025/06/BAY-GRP-BOB-D-e1751066056529.png
GEO:49.2605641;-123.0984775
X-APPLE-STRUCTURED-LOCATION;VALUE=URI;X-ADDRESS=Vancouver Recovery Club 2775 Sophia Street Vancouver V5T 3L1;X-APPLE-RADIUS=500;X-TITLE=2775 Sophia Street:geo:-123.0984775,49.2605641
END:VEVENT
BEGIN:VEVENT
DTSTART;VALUE=DATE:20250703
DTEND;VALUE=DATE:20250707
DTSTAMP:20260423T120556
CREATED:20250515T203828Z
LAST-MODIFIED:20250515T204017Z
UID:10002031-1751500800-1751846399@vancouveraa.ca
SUMMARY:2025 A.A. International Conventiom
DESCRIPTION:Click here for poster.
URL:https://vancouveraa.ca/event/2025-a-a-international-conventiom/
LOCATION:Vancouver Convention Centre\, 999 Canada Pl.\, Vancouver\, BC\, V6C 3C1\, Canada
CATEGORIES:Event
ATTACH;FMTTYPE=image/jpeg:https://vancouveraa.ca/wp-content/uploads/2025/05/2025ICFlyer_registration_en-FI-e1747341032303.jpg
GEO:49.2877204;-123.113231
X-APPLE-STRUCTURED-LOCATION;VALUE=URI;X-ADDRESS=Vancouver Convention Centre 999 Canada Pl. Vancouver BC V6C 3C1 Canada;X-APPLE-RADIUS=500;X-TITLE=999 Canada Pl.:geo:-123.113231,49.2877204
END:VEVENT
END:VCALENDAR