BEGIN:VCALENDAR
VERSION:2.0
PRODID:-//Greater Vancouver Intergroup Society AA - ECPv6.15.20//NONSGML v1.0//EN
CALSCALE:GREGORIAN
METHOD:PUBLISH
X-WR-CALNAME:Greater Vancouver Intergroup Society AA
X-ORIGINAL-URL:https://vancouveraa.ca
X-WR-CALDESC:Events for Greater Vancouver Intergroup Society AA
REFRESH-INTERVAL;VALUE=DURATION:PT1H
X-Robots-Tag:noindex
X-PUBLISHED-TTL:PT1H
BEGIN:VTIMEZONE
TZID:America/Vancouver
BEGIN:DAYLIGHT
TZOFFSETFROM:-0800
TZOFFSETTO:-0700
TZNAME:PDT
DTSTART:20240310T100000
END:DAYLIGHT
BEGIN:STANDARD
TZOFFSETFROM:-0700
TZOFFSETTO:-0800
TZNAME:PST
DTSTART:20241103T090000
END:STANDARD
BEGIN:DAYLIGHT
TZOFFSETFROM:-0800
TZOFFSETTO:-0700
TZNAME:PDT
DTSTART:20250309T100000
END:DAYLIGHT
BEGIN:STANDARD
TZOFFSETFROM:-0700
TZOFFSETTO:-0800
TZNAME:PST
DTSTART:20251102T090000
END:STANDARD
BEGIN:DAYLIGHT
TZOFFSETFROM:-0800
TZOFFSETTO:-0700
TZNAME:PDT
DTSTART:20260308T100000
END:DAYLIGHT
BEGIN:STANDARD
TZOFFSETFROM:-0700
TZOFFSETTO:-0800
TZNAME:PST
DTSTART:20261101T090000
END:STANDARD
END:VTIMEZONE
BEGIN:VEVENT
DTSTART;TZID=America/Vancouver:20251213T131500
DTEND;TZID=America/Vancouver:20251213T150000
DTSTAMP:20260424T025341
CREATED:20251124T223513Z
LAST-MODIFIED:20251125T011601Z
UID:10002069-1765631700-1765638000@vancouveraa.ca
SUMMARY:Holiday Potluck
DESCRIPTION:Click here for poster.
URL:https://vancouveraa.ca/event/holiday-potluck/
LOCATION:The Masonic Hall\, 15302 Pacific Avenue\, White Rock\, BC\, Canada
ATTACH;FMTTYPE=image/png:https://vancouveraa.ca/wp-content/uploads/2025/11/Daily-Reflections-2025-FI-e1764023696536.png
GEO:49.0225847;-122.7982927
X-APPLE-STRUCTURED-LOCATION;VALUE=URI;X-ADDRESS=The Masonic Hall 15302 Pacific Avenue White Rock BC Canada;X-APPLE-RADIUS=500;X-TITLE=15302 Pacific Avenue:geo:-122.7982927,49.0225847
END:VEVENT
END:VCALENDAR