BEGIN:VCALENDAR
VERSION:2.0
PRODID:-//Greater Vancouver Intergroup Society AA - ECPv6.15.20//NONSGML v1.0//EN
CALSCALE:GREGORIAN
METHOD:PUBLISH
X-ORIGINAL-URL:https://vancouveraa.ca
X-WR-CALDESC:Events for Greater Vancouver Intergroup Society AA
REFRESH-INTERVAL;VALUE=DURATION:PT1H
X-Robots-Tag:noindex
X-PUBLISHED-TTL:PT1H
BEGIN:VTIMEZONE
TZID:America/Vancouver
BEGIN:DAYLIGHT
TZOFFSETFROM:-0800
TZOFFSETTO:-0700
TZNAME:PDT
DTSTART:20240310T100000
END:DAYLIGHT
BEGIN:STANDARD
TZOFFSETFROM:-0700
TZOFFSETTO:-0800
TZNAME:PST
DTSTART:20241103T090000
END:STANDARD
BEGIN:DAYLIGHT
TZOFFSETFROM:-0800
TZOFFSETTO:-0700
TZNAME:PDT
DTSTART:20250309T100000
END:DAYLIGHT
BEGIN:STANDARD
TZOFFSETFROM:-0700
TZOFFSETTO:-0800
TZNAME:PST
DTSTART:20251102T090000
END:STANDARD
BEGIN:DAYLIGHT
TZOFFSETFROM:-0800
TZOFFSETTO:-0700
TZNAME:PDT
DTSTART:20260308T100000
END:DAYLIGHT
BEGIN:STANDARD
TZOFFSETFROM:-0700
TZOFFSETTO:-0800
TZNAME:PST
DTSTART:20261101T090000
END:STANDARD
END:VTIMEZONE
BEGIN:VEVENT
DTSTART;VALUE=DATE:20250822
DTEND;VALUE=DATE:20250825
DTSTAMP:20260425T071842
CREATED:20250623T233017Z
LAST-MODIFIED:20250623T233017Z
UID:10002042-1755820800-1756079999@vancouveraa.ca
SUMMARY:GSO: East Central Regional Forum
DESCRIPTION:Click here to see pdf \n 
URL:https://vancouveraa.ca/event/gso-east-central-regional-forum/
LOCATION:BC
CATEGORIES:GSO Cat.
ATTACH;FMTTYPE=image/png:https://vancouveraa.ca/wp-content/uploads/2025/06/EN_2025_ECenRF_Flyer_v2-e1750721192164.png
END:VEVENT
BEGIN:VEVENT
DTSTART;VALUE=DATE:20250823
DTEND;VALUE=DATE:20250825
DTSTAMP:20260425T071842
CREATED:20250821T234443Z
LAST-MODIFIED:20250821T234443Z
UID:10002052-1755907200-1756079999@vancouveraa.ca
SUMMARY:Sea to Sky Roundup
DESCRIPTION:Click here for poster.
URL:https://vancouveraa.ca/event/sea-to-sky-roundup-3/
LOCATION:Squamish Nation Totem Hall\, 1380 Stawamus Rd\, Squamish\, BC\, V8B0B5\, Canada
ATTACH;FMTTYPE=image/png:https://vancouveraa.ca/wp-content/uploads/2025/08/sea2sky-FI-e1755819846397.png
GEO:49.6914053;-123.1477928
X-APPLE-STRUCTURED-LOCATION;VALUE=URI;X-ADDRESS=Squamish Nation Totem Hall 1380 Stawamus Rd Squamish BC V8B0B5 Canada;X-APPLE-RADIUS=500;X-TITLE=1380 Stawamus Rd:geo:-123.1477928,49.6914053
END:VEVENT
END:VCALENDAR